BEGIN:VCALENDAR
VERSION:2.0
CALSCALE:GREGORIAN
PRODID:adamgibbons/ics
METHOD:PUBLISH
X-PUBLISHED-TTL:PT1H
BEGIN:VEVENT
UID:277@durockrj.com.br
SUMMARY:Aliança 2026
DTSTAMP:20260421T181853Z
DTSTART:20260823T180000Z
DESCRIPTION:Após a triunfante ascensão do ALIANÇA no último ano\, o @ratono
	rio\n[https://www.instagram.com/ratonorio/] anuncia\, com orgulho\, o reto
	rno do culto\nprofano em 2026 para o desespero dos incautos.\n\nNas semana
	s que se seguem\, revelaremos\, uma a uma\, as entidades sonoras que\ncomp
	orão este ritual\, incluindo uma força ancestral do metal extremo brasilei
	ro\,\nhá tempos ausente destas terras.\n\nPreparem-se!\n\n-------\n\nALIAN
	ÇA 2026 - O mais tradicional festival da música extrema está de volta! Dez
	\nbandas\, dois palcos!!!\n\nLocal: Arena Hermeto Pascoal - Lona de Bangu\
	n\nData: 23 de Agosto (Domingo)\n\nAbertura: 15h\n\nIngressos:\nMais infos
	 em breve\n\nArte: @lameirafelipe [https://www.instagram.com/lameirafelipe
	/]\n\nProdução: @ratonorio [https://www.instagram.com/ratonorio/]\n\nEspal
	hem o Chaos!!!
URL:https://durockrj.com.br/event/alianca-2026
GEO:-22.8774108;-43.4726858
LOCATION:Areninha Cultural Hermeto Pascoal - Praça Primeiro de Maio\, s/n -
	 Bangu\, Rio de Janeiro - RJ
STATUS:CONFIRMED
CATEGORIES:zona oeste,bangu
X-ALT-DESC;FMTTYPE=text/html:<p>Após a triunfante ascensão do ALIANÇA no úl
	timo ano, o <a target="_blank" href="https://www.instagram.com/ratonorio/"
	>@ratonorio</a> anuncia, com orgulho, o retorno do culto profano em 2026 p
	ara o desespero dos incautos.<br><br>Nas semanas que se seguem, revelaremo
	s, uma a uma, as entidades sonoras que comporão este ritual, incluindo uma
	 força ancestral do metal extremo brasileiro, há tempos ausente destas ter
	ras.<br><br>Preparem-se!<br><br>-------<br><br>ALIANÇA 2026 - O mais tradi
	cional festival da música extrema está de volta! Dez bandas, dois palcos!!
	!<br><br>Local: Arena Hermeto Pascoal - Lona de Bangu<br><br>Data: 23 de A
	gosto (Domingo)<br><br>Abertura: 15h<br><br>Ingressos:<br>Mais infos em br
	eve<br><br>Arte: <a target="_blank" href="https://www.instagram.com/lameir
	afelipe/">@lameirafelipe</a><br><br>Produção: <a target="_blank" href="htt
	ps://www.instagram.com/ratonorio/">@ratonorio</a><br><br>Espalhem o Chaos!
	!!</p>
BEGIN:VALARM
ACTION:DISPLAY
DESCRIPTION:Aliança 2026
TRIGGER:-PT1H
END:VALARM
END:VEVENT
END:VCALENDAR
