BEGIN:VCALENDAR
VERSION:2.0
CALSCALE:GREGORIAN
PRODID:adamgibbons/ics
METHOD:PUBLISH
X-PUBLISHED-TTL:PT1H
BEGIN:VEVENT
UID:266@durockrj.com.br
SUMMARY:Anesthesia - Metallica + o melhor do Heavy Metal
DTSTAMP:20260421T034548Z
DTSTART:20260502T210000Z
DESCRIPTION:Atração Musical: A banda Anesthesia traz o melhor tributo Metal
	lica do Rio e\nmais um especial com o melhor do Heavy Metal em um show pro
	longado pra quem não\ntá afim de curtir a Shakira em Copacabana. DJ antes 
	e após a banda.\n\nPromoções:\nDose Dupla de Gin até 21:30h\;\nCervejas no
	 balde: Pague 5 e leve 6 até 21:30h\;\nDose dupla de Caipirinhas até meia 
	noite.\n\n\n\n\n\n\nInformações:\nFuncionamento: 18h às 03h\;\nAniversário
	s e reservas pelo WhatsApp: 21967739560.\n\nhttps://www.sympla.com.br/even
	to/metallica-o-melhor-do-heavy-metal-sabado-02-05/3385907?algoliaID=83b2c8
	ac349d856e79d32994b139349c\n[https://www.sympla.com.br/evento/metallica-o-
	melhor-do-heavy-metal-sabado-02-05/3385907?algoliaID=83b2c8ac349d856e79d32
	994b139349c&share_id=copiarlink]
URL:https://durockrj.com.br/event/anesthesia-metallica-o-melhor-do-heavy-me
	tal
GEO:-23.0084113;-43.2929832
LOCATION:TT Garage - Estr. do Joá\, 3425 - Joá\, Rio de Janeiro - RJ
STATUS:CONFIRMED
CATEGORIES:zona oeste,joa
X-ALT-DESC;FMTTYPE=text/html:<p><strong>Atração Musical: </strong>A banda A
	nesthesia traz o melhor tributo Metallica do Rio e mais um especial com o 
	melhor do Heavy Metal em um show prolongado pra quem não tá afim de curtir
	 a Shakira em Copacabana. DJ antes e após a banda.</p><p><strong>Promoções
	:</strong><br> Dose Dupla de Gin até 21:30h;<br> Cervejas no balde: Pague 
	5 e leve 6 até 21:30h;<br> Dose dupla de Caipirinhas até meia noite.<br></
	p><p></p><p></p><p><strong>Informações:</strong><br> Funcionamento: 18h às
	 03h;<br>Aniversários e reservas pelo WhatsApp: 21967739560.</p><p><a targ
	et="_blank" href="https://www.sympla.com.br/evento/metallica-o-melhor-do-h
	eavy-metal-sabado-02-05/3385907?algoliaID=83b2c8ac349d856e79d32994b139349c
	&amp;share_id=copiarlink">https://www.sympla.com.br/evento/metallica-o-mel
	hor-do-heavy-metal-sabado-02-05/3385907?algoliaID=83b2c8ac349d856e79d32994
	b139349c</a></p>
BEGIN:VALARM
ACTION:DISPLAY
DESCRIPTION:Anesthesia - Metallica + o melhor do Heavy Metal
TRIGGER:-PT1H
END:VALARM
END:VEVENT
END:VCALENDAR
