BEGIN:VCALENDAR
VERSION:2.0
CALSCALE:GREGORIAN
PRODID:adamgibbons/ics
METHOD:PUBLISH
X-PUBLISHED-TTL:PT1H
BEGIN:VEVENT
UID:281@durockrj.com.br
SUMMARY:Angst - Tributo à Rammstein
DTSTAMP:20260421T210301Z
DTSTART:20260501T230000Z
DESCRIPTION:Noite de estreia na Casinha  a Banda ANGS+ vai chegar derruband
	o a porta\n\ncom seu super tributo à Rammstein\, e abrindo a noite com tod
	o seu talento o\ncantor Santo JP\n\nfazendo aquele esquenta de respeito pr
	a galera !\n\nhttps://www.sympla.com.br/evento/tributo-a-rammistein-com-a-
	banda-angs/3385085\n[https://www.sympla.com.br/evento/tributo-a-rammistein
	-com-a-banda-angs/3385085]
URL:https://durockrj.com.br/event/angst-tributo-a-rammstein
GEO:-22.8154184;-43.4179688
LOCATION:O Clã Pub - R. Dr. Manoel Reis\, 656 - Centro\, Nilópolis - RJ
STATUS:CONFIRMED
CATEGORIES:baixada fluminense,nilopolis,tributo
X-ALT-DESC;FMTTYPE=text/html:<p>Noite de estreia na Casinha&nbsp; a Banda A
	NGS+ vai chegar derrubando a porta</p><p>com seu super tributo à Rammstein
	, e abrindo a noite com todo seu talento o cantor Santo JP</p><p>fazendo a
	quele esquenta de respeito pra galera !</p><p><a target="_blank" href="htt
	ps://www.sympla.com.br/evento/tributo-a-rammistein-com-a-banda-angs/338508
	5">https://www.sympla.com.br/evento/tributo-a-rammistein-com-a-banda-angs/
	3385085</a></p>
BEGIN:VALARM
ACTION:DISPLAY
DESCRIPTION:Angst - Tributo à Rammstein
TRIGGER:-PT1H
END:VALARM
END:VEVENT
END:VCALENDAR
