BEGIN:VCALENDAR
VERSION:2.0
CALSCALE:GREGORIAN
PRODID:adamgibbons/ics
METHOD:PUBLISH
X-PUBLISHED-TTL:PT1H
BEGIN:VEVENT
UID:238@durockrj.com.br
SUMMARY:Bad Medicine | Coordenadas Bar
DTSTAMP:20260419T153322Z
DTSTART:20260509T050000Z
DTEND:20260510T090000Z
DESCRIPTION:🎸 Bon Jovi Tribute: Bad Medicine no Coordenadas Bar\n\nPrepare 
	o coração e a voz! A Bad Medicine\, considerada um dos maiores tributos ao
	 Bon Jovi do Rio de Janeiro\, leva\nseu show a Botafogo.\n\nNo dia 9 de Ma
	io\, o palco do Coordenadas Bar recebe a energia contagiante de Jon Bon Jo
	vi e sua trupe em uma performance impecável. Este será o primeiro show do 
	ano da banda na casa\, prometendo uma noite de pura nostalgia e rock n' ro
	ll para começar o calendário com o pé direito!\n\n🌟 O Que Esperar da Noite
	?\n\nA Bad Medicine é conhecida pela fidelidade sonora e visual\, transpor
	tando o público diretamente para os grandes estádios. Prepare-se para cant
	ar do início ao fim clássicos que marcaram gerações\, como:\n\n* Livin' on
	 a Prayer\n\n* It's My Life\n\n* You Give Love a Bad Name\n\n* Always\n\n*
	 Bed of Roses\n\n* Wanted Dead or Alive\n\n🎫Ingressos:\nhttps://meaple.com
	.br/coordenadasbar/bad-medicine-no-coordenadas-bar-copia\n[https://meaple.
	com.br/coordenadasbar/bad-medicine-no-coordenadas-bar-copia]
URL:https://durockrj.com.br/event/bad-medicine-or-coordenadas-bar
GEO:-22.9512279;-43.1817393
LOCATION:Coordenadas Bar - Rua da Passagem\, 19 - Botafogo\, Rio de Janeiro
	 - RJ
STATUS:CONFIRMED
CATEGORIES:zona sul,botafogo,mrtrip
X-ALT-DESC;FMTTYPE=text/html:<p>🎸&nbsp;<strong>Bon&nbsp;Jovi&nbsp;Tribute:&
	nbsp;Bad&nbsp;Medicine&nbsp;no&nbsp;Coordenadas&nbsp;Bar</strong></p><p>Pr
	epare&nbsp;o&nbsp;coração&nbsp;e&nbsp;a&nbsp;voz!&nbsp;A&nbsp;Bad&nbsp;Med
	icine,&nbsp;considerada&nbsp;um&nbsp;dos&nbsp;maiores&nbsp;tributos&nbsp;a
	o&nbsp;Bon&nbsp;Jovi&nbsp;do&nbsp;Rio&nbsp;de&nbsp;Janeiro,&nbsp;leva seu 
	show a Botafogo.</p><p>No&nbsp;dia&nbsp;9&nbsp;de&nbsp;Maio,&nbsp;o&nbsp;p
	alco&nbsp;do&nbsp;Coordenadas&nbsp;Bar&nbsp;recebe&nbsp;a&nbsp;energia&nbs
	p;contagiante&nbsp;de&nbsp;Jon&nbsp;Bon&nbsp;Jovi&nbsp;e&nbsp;sua&nbsp;tru
	pe&nbsp;em&nbsp;uma&nbsp;performance&nbsp;impecável.&nbsp;Este&nbsp;será&n
	bsp;o&nbsp;primeiro&nbsp;show&nbsp;do&nbsp;ano&nbsp;da&nbsp;banda&nbsp;na&
	nbsp;casa,&nbsp;prometendo&nbsp;uma&nbsp;noite&nbsp;de&nbsp;pura&nbsp;nost
	algia&nbsp;e&nbsp;rock&nbsp;n'&nbsp;roll&nbsp;para&nbsp;começar&nbsp;o&nbs
	p;calendário&nbsp;com&nbsp;o&nbsp;pé&nbsp;direito!</p><p>🌟&nbsp;O&nbsp;Que
	&nbsp;Esperar&nbsp;da&nbsp;Noite?</p><p>A&nbsp;Bad&nbsp;Medicine&nbsp;é&nb
	sp;conhecida&nbsp;pela&nbsp;fidelidade&nbsp;sonora&nbsp;e&nbsp;visual,&nbs
	p;transportando&nbsp;o&nbsp;público&nbsp;diretamente&nbsp;para&nbsp;os&nbs
	p;grandes&nbsp;estádios.&nbsp;Prepare-se&nbsp;para&nbsp;cantar&nbsp;do&nbs
	p;início&nbsp;ao&nbsp;fim&nbsp;clássicos&nbsp;que&nbsp;marcaram&nbsp;geraç
	ões,&nbsp;como:</p><p>*&nbsp;Livin'&nbsp;on&nbsp;a&nbsp;Prayer</p><p>*&nbs
	p;It's&nbsp;My&nbsp;Life</p><p>*&nbsp;You&nbsp;Give&nbsp;Love&nbsp;a&nbsp;
	Bad&nbsp;Name</p><p>*&nbsp;Always</p><p>*&nbsp;Bed&nbsp;of&nbsp;Roses</p><
	p>*&nbsp;Wanted&nbsp;Dead&nbsp;or&nbsp;Alive</p><p>🎫Ingressos: <a target="
	_blank" href="https://meaple.com.br/coordenadasbar/bad-medicine-no-coorden
	adas-bar-copia">https://meaple.com.br/coordenadasbar/bad-medicine-no-coord
	enadas-bar-copia</a></p>
BEGIN:VALARM
ACTION:DISPLAY
DESCRIPTION:Bad Medicine | Coordenadas Bar
TRIGGER:-PT1H
END:VALARM
END:VEVENT
END:VCALENDAR
