BEGIN:VCALENDAR
VERSION:2.0
CALSCALE:GREGORIAN
PRODID:adamgibbons/ics
METHOD:PUBLISH
X-PUBLISHED-TTL:PT1H
BEGIN:VEVENT
UID:283@durockrj.com.br
SUMMARY:Baixo Grau - Tributo ao Charlie Brown Jr.
DTSTAMP:20260421T223422Z
DTSTART:20260423T000000Z
DESCRIPTION:🚨 PRÉ-FERIADO DO JEITO CERTO 🚨\n\nDia 22 de abril a casa vai tr
	emer com um tributo PESADO pra quem viveu (e ainda\nvive) o som de Charlie
	 Brown Jr. 🤘\n\nA banda BAIXO GRAU chega pesando com aquele repertório que
	 mistura skate\, rua e\natitude!\n\n🔥 “Só os loucos sabem…”\n🔥 “Zóio de lu
	la…”\n🔥 “Proibida pra mim…”\n\nSe você sente falta da energia do Chorão no
	 palco\, essa é a noite.\n\n📅 22/04 (quarta – véspera de feriado)\n⏰ A par
	tir das 21h\n\nChega cedo\, garante teu lugar e vem cantar até perder a vo
	z 🍻\nPorque essa não é só mais uma noite… é TRIBUTO DE VERDADE.\n\n⚠️ Event
	o proibido para menores de 18 anos.\nEntrada permitida apenas acompanhados
	 por responsáveis legais.
URL:https://durockrj.com.br/event/baixo-grau-tributo-ao-charlie-brown-jr
GEO:-22.9121172;-43.5595948
LOCATION:Pilo’s Pub - R. Dr. Ibraim Hannas\, 505 - Campo Grande\, Rio de Ja
	neiro - RJ
STATUS:CONFIRMED
CATEGORIES:zona oeste,campo grande
X-ALT-DESC;FMTTYPE=text/html:<p>🚨 PRÉ-FERIADO DO JEITO CERTO 🚨<br><br>Dia 2
	2 de abril a casa vai tremer com um tributo PESADO pra quem viveu (e ainda
	 vive) o som de Charlie Brown Jr. 🤘<br><br>A banda BAIXO GRAU chega pesand
	o com aquele repertório que mistura skate, rua e atitude!<br><br>🔥 “Só os 
	loucos sabem…”<br>🔥 “Zóio de lula…”<br>🔥 “Proibida pra mim…”<br><br>Se voc
	ê sente falta da energia do Chorão no palco, essa é a noite.<br><br>📅 22/0
	4 (quarta – véspera de feriado)<br>⏰ A partir das 21h<br><br>Chega cedo, g
	arante teu lugar e vem cantar até perder a voz 🍻<br>Porque essa não é só m
	ais uma noite… é TRIBUTO DE VERDADE.<br><br>⚠️ Evento proibido para menores
	 de 18 anos.<br>Entrada permitida apenas acompanhados por responsáveis leg
	ais.</p>
BEGIN:VALARM
ACTION:DISPLAY
DESCRIPTION:Baixo Grau - Tributo ao Charlie Brown Jr.
TRIGGER:-PT1H
END:VALARM
END:VEVENT
END:VCALENDAR
