BEGIN:VCALENDAR
VERSION:2.0
CALSCALE:GREGORIAN
PRODID:adamgibbons/ics
METHOD:PUBLISH
X-PUBLISHED-TTL:PT1H
BEGIN:VEVENT
UID:265@durockrj.com.br
SUMMARY:Banda Holster - Tributo ao Grunge
DTSTAMP:20260421T033236Z
DTSTART:20260502T010000Z
DESCRIPTION:Sexta 01 de maio \n\nPrepare-se para uma noite intensa\, suja e
	 cheia Banda Holters\, com o maior\ntributo ao grunge\n\n\n\nUma viagem di
	reto para Seattle\, berço do movimento que mudou a história do rock\nnos a
	nos 90.\n\nNo repertório\, clássicos de Nirvana\, Pearl Jam\, Alice in Cha
	ins e Soundgarden\,\nrelembrando a essência crua\, autêntica e rebelde do 
	grunge\n\n\n\nSe você viveu ou ama essa era\, essa noite é obrigatória!\n\
	n\n\nAbertura da casa: 19h\n\nShow de abertura: 21:30h\n\n\n\nVem sentir o
	 peso\, a emoção e a nostalgia do verdadeiro rock!\n\nhttps://www.sympla.c
	om.br/evento/tributo-ao-grunge-banda-holster/3374515?algoliaID=5a2bc35682b
	49f91a1346ecf01880311\n[https://www.sympla.com.br/evento/tributo-ao-grunge
	-banda-holster/3374515?algoliaID=5a2bc35682b49f91a1346ecf01880311&share_id
	=copiarlink]
URL:https://durockrj.com.br/event/banda-holster-tributo-ao-grunge
GEO:-22.9010188;-43.5672444
LOCATION:Drunks Pub - Estr. Rio do A\, 695 - Campo Grande\, Rio de Janeiro 
	- RJ
STATUS:CONFIRMED
CATEGORIES:zona oeste,campo grande,tributo
X-ALT-DESC;FMTTYPE=text/html:<p>Sexta 01 de maio&nbsp;</p><p>Prepare-se par
	a uma noite intensa, suja e cheia Banda Holters, com o maior tributo ao gr
	unge</p><p></p><p>Uma viagem direto para Seattle, berço do movimento que m
	udou a história do rock nos anos 90.</p><p>No repertório, clássicos de Nir
	vana, Pearl Jam, Alice in Chains e Soundgarden, relembrando a essência cru
	a, autêntica e rebelde do grunge</p><p></p><p>Se você viveu ou ama essa er
	a, essa noite é obrigatória!</p><p></p><p>Abertura da casa: 19h</p><p>Show
	 de abertura: 21:30h</p><p></p><p>Vem sentir o peso, a emoção e a nostalgi
	a do verdadeiro rock!</p><p><a target="_blank" href="https://www.sympla.co
	m.br/evento/tributo-ao-grunge-banda-holster/3374515?algoliaID=5a2bc35682b4
	9f91a1346ecf01880311&amp;share_id=copiarlink">https://www.sympla.com.br/ev
	ento/tributo-ao-grunge-banda-holster/3374515?algoliaID=5a2bc35682b49f91a13
	46ecf01880311</a></p>
BEGIN:VALARM
ACTION:DISPLAY
DESCRIPTION:Banda Holster - Tributo ao Grunge
TRIGGER:-PT1H
END:VALARM
END:VEVENT
END:VCALENDAR
