BEGIN:VCALENDAR
VERSION:2.0
CALSCALE:GREGORIAN
PRODID:adamgibbons/ics
METHOD:PUBLISH
X-PUBLISHED-TTL:PT1H
BEGIN:VEVENT
UID:278@durockrj.com.br
SUMMARY:Banda Papercut - Tributo à Linkin Park + DJ Karen Magliano
DTSTAMP:20260421T204817Z
DTSTART:20260424T230000Z
DESCRIPTION:A banda Papercut vem direto de Campos dos Goytacazes para quebr
	ar tudo no palco\ndo O Clã Pub\,\n\nvamos fazer um super tributo a Linkin 
	Park e agitando a pista a Incrível DJ\nKaren Magliano !!!\n\nhttps://www.s
	ympla.com.br/evento/tributo-a-linkin-park-banda-papercut-dj-karen-magliano
	/3377138\n[https://www.sympla.com.br/evento/tributo-a-linkin-park-banda-pa
	percut-dj-karen-magliano/3377138?share_id=copiarlink]
URL:https://durockrj.com.br/event/banda-papercut-tributo-a-linkin-park-dj-k
	aren-magliano
GEO:-22.8154184;-43.4179688
LOCATION:O Clã Pub - R. Dr. Manoel Reis\, 656 - Centro\, Nilópolis - RJ
STATUS:CONFIRMED
CATEGORIES:baixada fluminense,nilopolis,tributo
X-ALT-DESC;FMTTYPE=text/html:<p>A banda Papercut vem direto de Campos dos G
	oytacazes para quebrar tudo no palco do O Clã Pub,</p><p>vamos fazer um su
	per tributo a Linkin Park e agitando a pista a Incrível DJ Karen Magliano 
	!!!</p><p><a target="_blank" href="https://www.sympla.com.br/evento/tribut
	o-a-linkin-park-banda-papercut-dj-karen-magliano/3377138?share_id=copiarli
	nk">https://www.sympla.com.br/evento/tributo-a-linkin-park-banda-papercut-
	dj-karen-magliano/3377138</a></p>
BEGIN:VALARM
ACTION:DISPLAY
DESCRIPTION:Banda Papercut - Tributo à Linkin Park + DJ Karen Magliano
TRIGGER:-PT1H
END:VALARM
END:VEVENT
END:VCALENDAR
