BEGIN:VCALENDAR
VERSION:2.0
CALSCALE:GREGORIAN
PRODID:adamgibbons/ics
METHOD:PUBLISH
X-PUBLISHED-TTL:PT1H
BEGIN:VEVENT
UID:280@durockrj.com.br
SUMMARY:Banda Quetazal + O Rafa Dávila + DJ Karen Magliano
DTSTAMP:20260421T205336Z
DTSTART:20260502T230000Z
DESCRIPTION:Como todo bom 1º sábado do mês\, teremos o nosso religioso enco
	ntro\n\ncom a Banda Quetzal tocando o melhor do rock e pop rock nacional e
	\ninternacional\, teremos também\n\no cantor o Rafa D’avila abrindo à noit
	e com todo seu talento e agitando a pista\nnos intervalos a incrível DJ Ka
	ren Magliano!!!\n\nhttps://www.sympla.com.br/evento/banda-quetzal-o-rafa-d
	avila-dj-karen-magliano/3385106\n[https://www.sympla.com.br/evento/banda-q
	uetzal-o-rafa-davila-dj-karen-magliano/3385106]
URL:https://durockrj.com.br/event/banda-quetazal-o-rafa-davila-dj-karen-mag
	liano
GEO:-22.8154184;-43.4179688
LOCATION:O Clã Pub - R. Dr. Manoel Reis\, 656 - Centro\, Nilópolis - RJ
STATUS:CONFIRMED
CATEGORIES:cover,baixada fluminense,nilopolis
X-ALT-DESC;FMTTYPE=text/html:<p>Como todo bom 1º sábado do mês, teremos o n
	osso religioso encontro</p><p>com a Banda Quetzal tocando o melhor do rock
	 e pop rock nacional e internacional, teremos também</p><p>o cantor o Rafa
	 D’avila abrindo à noite com todo seu talento e agitando a pista nos inter
	valos a incrível DJ Karen Magliano!!!</p><p><a target="_blank" href="https
	://www.sympla.com.br/evento/banda-quetzal-o-rafa-davila-dj-karen-magliano/
	3385106">https://www.sympla.com.br/evento/banda-quetzal-o-rafa-davila-dj-k
	aren-magliano/3385106</a></p>
BEGIN:VALARM
ACTION:DISPLAY
DESCRIPTION:Banda Quetazal + O Rafa Dávila + DJ Karen Magliano
TRIGGER:-PT1H
END:VALARM
END:VEVENT
END:VCALENDAR
