BEGIN:VCALENDAR
VERSION:2.0
CALSCALE:GREGORIAN
PRODID:adamgibbons/ics
METHOD:PUBLISH
X-PUBLISHED-TTL:PT1H
BEGIN:VEVENT
UID:262@durockrj.com.br
SUMMARY:Banda The Jokers
DTSTAMP:20260421T033105Z
DTSTART:20260425T230000Z
DESCRIPTION:A The Jokers tem em sua essência o mais puro Hard Rock internac
	ional\, e\npasseando entre clássicos como Van Halen\, Queen\, Guns and Ros
	es\, Bon Jovi\,\nWhitesnake\, entre outros. A The Jokers é muito mais que 
	um show: é uma\nexperiência sonora e de performance fidedigna ao Hard Rock
	!\n\nhttps://www.sympla.com.br/evento/banda-the-jokers-retro-bar/3325829?a
	lgoliaID=b5889b0958d2867950fb363fc46cc948\n[https://www.sympla.com.br/even
	to/banda-the-jokers-retro-bar/3325829?algoliaID=b5889b0958d2867950fb363fc4
	6cc948&share_id=copiarlink]
URL:https://durockrj.com.br/event/banda-the-jokers
GEO:-22.8386367;-43.2596058
LOCATION:Retrô Bar 1141 - R. Dr. Nunes\, 1141 - Olaria\, Rio de Janeiro - R
	J
STATUS:CONFIRMED
CATEGORIES:cover,zona norte,olaria
X-ALT-DESC;FMTTYPE=text/html:<p>A The Jokers tem em sua essência o mais pur
	o Hard Rock internacional, e passeando entre clássicos como Van Halen, Que
	en, Guns and Roses, Bon Jovi, Whitesnake, entre outros. A The Jokers é mui
	to mais que um show: é uma experiência sonora e de performance fidedigna a
	o Hard Rock!</p><p><a target="_blank" href="https://www.sympla.com.br/even
	to/banda-the-jokers-retro-bar/3325829?algoliaID=b5889b0958d2867950fb363fc4
	6cc948&amp;share_id=copiarlink">https://www.sympla.com.br/evento/banda-the
	-jokers-retro-bar/3325829?algoliaID=b5889b0958d2867950fb363fc46cc948</a></
	p>
BEGIN:VALARM
ACTION:DISPLAY
DESCRIPTION:Banda The Jokers
TRIGGER:-PT1H
END:VALARM
END:VEVENT
END:VCALENDAR
