BEGIN:VCALENDAR
VERSION:2.0
CALSCALE:GREGORIAN
PRODID:adamgibbons/ics
METHOD:PUBLISH
X-PUBLISHED-TTL:PT1H
BEGIN:VEVENT
UID:267@durockrj.com.br
SUMMARY:Banda Tramah
DTSTAMP:20260421T033049Z
DTSTART:20260502T230000Z
DESCRIPTION:Venha conhecer a nossa nova casa em Olaria.\nShow com a banda T
	RAMAH com muito FLASH BACK\, POP\, ROCK E SYNTPOP dos anos 80 e\n90. \n\nÉ
	 um novo espaço para as bandas de Rock e Pop se apresentarem.\n\nCasa com 
	decoração retrô dos anos 80 e 90 dentro de um galpão climatizado\n\ncom ca
	pacidade para 500 pessoas em um ambiente familiar e com total segurança.\n
	\nhttps://www.sympla.com.br/evento/banda-tramah-retro-bar-1141/3374716?alg
	oliaID=83b2c8ac349d856e79d32994b139349c\n[https://www.sympla.com.br/evento
	/banda-tramah-retro-bar-1141/3374716?algoliaID=83b2c8ac349d856e79d32994b13
	9349c&share_id=copiarlink]
URL:https://durockrj.com.br/event/banda-tramah
GEO:-22.8386367;-43.2596058
LOCATION:Retrô Bar 1141 - R. Dr. Nunes\, 1141 - Olaria\, Rio de Janeiro - R
	J
STATUS:CONFIRMED
CATEGORIES:zona norte,olaria
X-ALT-DESC;FMTTYPE=text/html:<p>Venha conhecer a nossa nova casa em Olaria.
	<br>Show com a banda TRAMAH com muito FLASH BACK, POP, ROCK E SYNTPOP dos 
	anos 80 e 90.&nbsp;</p><p>É um novo espaço para as bandas de Rock e Pop se
	 apresentarem.</p><p>Casa com decoração retrô dos anos 80 e 90 dentro de u
	m galpão climatizado</p><p>com capacidade para 500 pessoas em um ambiente 
	familiar e com total segurança.</p><p><a target="_blank" href="https://www
	.sympla.com.br/evento/banda-tramah-retro-bar-1141/3374716?algoliaID=83b2c8
	ac349d856e79d32994b139349c&amp;share_id=copiarlink">https://www.sympla.com
	.br/evento/banda-tramah-retro-bar-1141/3374716?algoliaID=83b2c8ac349d856e7
	9d32994b139349c</a></p>
BEGIN:VALARM
ACTION:DISPLAY
DESCRIPTION:Banda Tramah
TRIGGER:-PT1H
END:VALARM
END:VEVENT
END:VCALENDAR
