BEGIN:VCALENDAR
VERSION:2.0
CALSCALE:GREGORIAN
PRODID:adamgibbons/ics
METHOD:PUBLISH
X-PUBLISHED-TTL:PT1H
BEGIN:VEVENT
UID:237@durockrj.com.br
SUMMARY:Belzeblues | Coordenadas Bar
DTSTAMP:20260419T153216Z
DTSTART:20260507T050000Z
DTEND:20260507T075500Z
DESCRIPTION:⚡️ STEP INTO THE LIGHT: O NOVO CAPÍTULO DO BELZEBLUES\n\nA conta
	gem regressiva começou. No dia 30/04\, o Belzeblues apresenta ao mundo seu
	\nmais novo single: "Step Into The Light". E para celebrar essa nova fase\
	, nada\nmelhor do que o calor do palco e a vibração do público! 🎸\n\nNeste
	 novo capítulo\, a banda expande as fronteiras do Blues Rock psicodélico e
	\nmergulha em uma sonoridade imersiva que flerta com o R&B e o Folk Rock. 
	Com um\ngroove hipnotizante e a participação luxuosa da cantora gaúcha Van
	 Leão nos\nbacking vocals\, a faixa é um convite à desaceleração e à audiç
	ão atenta.\n\nPara tornar a noite de lançamento ainda mais histórica\, o p
	alco do Coordenadas\nBar receberá convidados ilustres: o mestre da harmôni
	ca Toyo Bagoso e o\nvirtuosismo de Bebeto Daroz na guitarra. Juntos\, eles
	 somam forças ao quarteto\npara uma performance visceral\, onde o improvis
	o e o timbre orgânico ditam as\nregras.\n\nO show será uma jornada dinâmic
	a que une o novo repertório autoral a releituras\npoderosas de ícones como
	 Pink Floyd e Allman Brothers.\n\nGaranta seu lugar nessa experiência únic
	a. Step into the light com a gente.\n\n🎫Ingressos: https://meaple.com.br/c
	oordenadasbar/belzeblues-coordenadas-bar\n[https://meaple.com.br/coordenad
	asbar/belzeblues-coordenadas-bar]
URL:https://durockrj.com.br/event/belzeblues-or-coordenadas-bar
GEO:-22.9512279;-43.1817393
LOCATION:Coordenadas Bar - Rua da Passagem\, 19 - Botafogo\, Rio de Janeiro
	 - RJ
STATUS:CONFIRMED
CATEGORIES:zona sul,botafogo,mrtrip
X-ALT-DESC;FMTTYPE=text/html:<p><strong>⚡️ STEP INTO THE LIGHT: O NOVO CAPÍT
	ULO DO BELZEBLUES</strong></p><p>A contagem regressiva começou. No dia <st
	rong>30/04</strong>, o <strong>Belzeblues</strong> apresenta ao mundo seu 
	mais novo single: <strong>"Step Into The Light"</strong>. E para celebrar 
	essa nova fase, nada melhor do que o calor do palco e a vibração do públic
	o! 🎸</p><p>Neste novo capítulo, a banda expande as fronteiras do Blues Roc
	k psicodélico e mergulha em uma sonoridade imersiva que flerta com o R&amp
	;B e o Folk Rock. Com um groove hipnotizante e a participação luxuosa da c
	antora gaúcha <strong>Van Leão</strong> nos backing vocals, a faixa é um c
	onvite à desaceleração e à audição atenta.</p><p>Para tornar a noite de la
	nçamento ainda mais histórica, o palco do Coordenadas Bar receberá convida
	dos ilustres: o mestre da harmônica <strong>Toyo Bagoso</strong> e o virtu
	osismo de <strong>Bebeto Daroz</strong> na guitarra. Juntos, eles somam fo
	rças ao quarteto para uma performance visceral, onde o improviso e o timbr
	e orgânico ditam as regras.</p><p>O show será uma jornada dinâmica que une
	 o novo repertório autoral a releituras poderosas de ícones como Pink Floy
	d e Allman Brothers.</p><p>Garanta seu lugar nessa experiência única. <str
	ong>Step into the light com a gente.</strong></p><p>🎫Ingressos: <a target=
	"_blank" href="https://meaple.com.br/coordenadasbar/belzeblues-coordenadas
	-bar">https://meaple.com.br/coordenadasbar/belzeblues-coordenadas-bar</a><
	/p>
BEGIN:VALARM
ACTION:DISPLAY
DESCRIPTION:Belzeblues | Coordenadas Bar
TRIGGER:-PT1H
END:VALARM
END:VEVENT
END:VCALENDAR
