BEGIN:VCALENDAR
VERSION:2.0
CALSCALE:GREGORIAN
PRODID:adamgibbons/ics
METHOD:PUBLISH
X-PUBLISHED-TTL:PT1H
BEGIN:VEVENT
UID:248@durockrj.com.br
SUMMARY:Black Bird – 28 Anos Celebrando os Beatles
DTSTAMP:20260419T151214Z
DTSTART:20260522T223000Z
DESCRIPTION:BLACK BIRD – 28 ANOS CELEBRANDO OS BEATLES\n\nAlguns shows você
	 assiste. Outros você sente. Este é um deles. No dia 22 de\nmaio\, o palco
	 do Teatro Rival recebe a banda Black Bird pela décima primeira\nvez\, em 
	uma apresentação especial que celebra 28 anos de uma trajetória dedicada\n
	a manter viva a obra dos Beatles — com respeito\, emoção e uma entrega que
	 vai\nalém da música. Para este show\, o repertório ganha um destaque espe
	cial: um set\ndedicado exclusivamente às canções de John Lennon\, reveland
	o toda a\nsensibilidade\, intensidade e genialidade de uma das maiores fig
	uras da história\nda música\, com clássicos como “(Just Like) Starting Ove
	r”\, “Stand by Me”\,\n“Imagine” e “Jealous Guy”. E\, claro\, os grandes su
	cessos dos Beatles também\nestão garantidos — incluindo “In My Life”\, “De
	ar Prudence” e "Strawberry Fields\nForever" — aqueles que atravessam geraç
	ões e continuam emocionando como na\nprimeira vez.\n\nIngressos à venda na
	 plataforma Sympla (link na bio).\n\nReconhecida por sua fidelidade sonora
	 e presença de palco envolvente\, a banda\nconstruiu ao longo dos anos uma
	 conexão real com o público. Não é apenas sobre\ntocar clássicos\, é sobre
	 recriar a atmosfera que transformou os Beatles em um\nfenômeno eterno. Fo
	rmada em 1998\, a Black Bird não é uma banda\, é uma verdadeira\nSeleção d
	e músicos talentosos e apaixonados pela obra que transcende a música e\nvi
	rou religião. Composta por Xande Maio (vocal/bateria)\, Luís Gamma\n(vocal
	/violão)\, Vitor Veiga (vocal/guitarra)\, Daniel Castro (vocal/baixo)\,\nT
	igran Magnelli (vocal/teclado) e Flávio Armony (teclado).\n\n“Onde tem pat
	rocínio\, tem Governo do Brasil”
URL:https://durockrj.com.br/event/black-bird-28-anos-celebrando-os-beatles
GEO:-22.9107435;-43.1765485
LOCATION:Teatro Rival Petrobras - Rua Álvaro Alvim\, 33 - Cinelândia\, Rio 
	de Janeiro - RJ
STATUS:CONFIRMED
CATEGORIES:centro,cover
X-ALT-DESC;FMTTYPE=text/html:<p>BLACK BIRD – 28 ANOS CELEBRANDO OS BEATLES<
	br><br>Alguns shows você assiste. Outros você sente. Este é um deles. No d
	ia 22 de maio, o palco do Teatro Rival recebe a banda Black Bird pela déci
	ma primeira vez, em uma apresentação especial que celebra 28 anos de uma t
	rajetória dedicada a manter viva a obra dos Beatles — com respeito, emoção
	 e uma entrega que vai além da música. Para este show, o repertório ganha 
	um destaque especial: um set dedicado exclusivamente às canções de John Le
	nnon, revelando toda a sensibilidade, intensidade e genialidade de uma das
	 maiores figuras da história da música, com clássicos como “(Just Like) St
	arting Over”, “Stand by Me”, “Imagine” e “Jealous Guy”. E, claro, os grand
	es sucessos dos Beatles também estão garantidos — incluindo “In My Life”, 
	“Dear Prudence” e "Strawberry Fields Forever" — aqueles que atravessam ger
	ações e continuam emocionando como na primeira vez.<br><br>Ingressos à ven
	da na plataforma Sympla (link na bio).<br><br>Reconhecida por sua fidelida
	de sonora e presença de palco envolvente, a banda construiu ao longo dos a
	nos uma conexão real com o público. Não é apenas sobre tocar clássicos, é 
	sobre recriar a atmosfera que transformou os Beatles em um fenômeno eterno
	. Formada em 1998, a Black Bird não é uma banda, é uma verdadeira Seleção 
	de músicos talentosos e apaixonados pela obra que transcende a música e vi
	rou religião. Composta por Xande Maio (vocal/bateria), Luís Gamma (vocal/v
	iolão), Vitor Veiga (vocal/guitarra), Daniel Castro (vocal/baixo), Tigran 
	Magnelli (vocal/teclado) e Flávio Armony (teclado).<br><br>“Onde tem patro
	cínio, tem Governo do Brasil”</p>
BEGIN:VALARM
ACTION:DISPLAY
DESCRIPTION:Black Bird – 28 Anos Celebrando os Beatles
TRIGGER:-PT1H
END:VALARM
END:VEVENT
END:VCALENDAR
