BEGIN:VCALENDAR
VERSION:2.0
CALSCALE:GREGORIAN
PRODID:adamgibbons/ics
METHOD:PUBLISH
X-PUBLISHED-TTL:PT1H
BEGIN:VEVENT
UID:269@durockrj.com.br
SUMMARY:Caixão (CE) e Blind Horse (RJ)
DTSTAMP:20260421T033125Z
DTSTART:20260503T190000Z
DESCRIPTION:Pela primeira vez no Rio de Janeiro\, um dos maiores nomes do u
	nderground\nbrasileiro na atualidade: Caixão! Direto de Fortaleza (CE)\, a
	 banda mistura\nelementos de proto-metal e psicodélico e vem ganhando públ
	ico por onde passa.\nIndicado para todos que curtem Occult Rock direto dos
	 anos 70.\n\nMas tem mais! A noite vai contar também com o hard rock/proto
	 metal de outra das\nmelhores bandas atuais do país: Blind Horse. O quarte
	to carioca\, conhecido por\nseus shows cheios de energia\, aproveita para 
	mostrar suas novas composições\,\nalém das músicas que fazem parte de seus
	 lancamentos anteriores. Imperdível!\n\nInstagram: @redandblackterror\nSit
	e: www.redandblackterror.com.br [http://www.redandblackterror.com.br]\n\nh
	ttps://www.sympla.com.br/evento/caixao-ce-e-blind-horse-rj/3350548?algolia
	ID=04afab5a4b6355884c999c51a577649e\n[https://www.sympla.com.br/evento/cai
	xao-ce-e-blind-horse-rj/3350548?algoliaID=04afab5a4b6355884c999c51a577649e
	&share_id=copiarlink]\n\n\n\n\nApenas 100 ingressos à venda.
URL:https://durockrj.com.br/event/caixao-ce-e-blind-horse-rj
GEO:-22.9549614;-43.1914982
LOCATION:Fonte Rio - R. Henrique de Novais\, 107 - Botafogo\, Rio de Janeir
	o - RJ
STATUS:CONFIRMED
CATEGORIES:zona sul,botafogo
X-ALT-DESC;FMTTYPE=text/html:<p>Pela primeira vez no Rio de Janeiro, um dos
	 maiores nomes do underground brasileiro na atualidade: Caixão! Direto de 
	Fortaleza (CE), a banda mistura elementos de proto-metal e psicodélico e v
	em ganhando público por onde passa. Indicado para todos que curtem Occult 
	Rock direto dos anos 70.<br><br>Mas tem mais! A noite vai contar também co
	m o hard rock/proto metal de outra das melhores bandas atuais do país: Bli
	nd Horse. O quarteto carioca, conhecido por seus shows cheios de energia, 
	aproveita para mostrar suas novas composições, além das músicas que fazem 
	parte de seus lancamentos anteriores. Imperdível!</p><p>Instagram: @redand
	blackterror<br>Site: <a target="_blank" href="http://www.redandblackterror
	.com.br">www.redandblackterror.com.br</a></p><p><a target="_blank" href="h
	ttps://www.sympla.com.br/evento/caixao-ce-e-blind-horse-rj/3350548?algolia
	ID=04afab5a4b6355884c999c51a577649e&amp;share_id=copiarlink">https://www.s
	ympla.com.br/evento/caixao-ce-e-blind-horse-rj/3350548?algoliaID=04afab5a4
	b6355884c999c51a577649e</a></p><p></p><p><br>Apenas 100 ingressos à venda.
	</p>
BEGIN:VALARM
ACTION:DISPLAY
DESCRIPTION:Caixão (CE) e Blind Horse (RJ)
TRIGGER:-PT1H
END:VALARM
END:VEVENT
END:VCALENDAR
