BEGIN:VCALENDAR
VERSION:2.0
CALSCALE:GREGORIAN
PRODID:adamgibbons/ics
METHOD:PUBLISH
X-PUBLISHED-TTL:PT1H
BEGIN:VEVENT
UID:282@durockrj.com.br
SUMMARY:Capitão Coruja - Especial U2 e QUEEN + Uma viagem no Rock anos 80\,
	90 e 2000
DTSTAMP:20260421T205659Z
DTSTART:20260425T230000Z
DESCRIPTION:A banda Capitão Coruja preparou um setlist de tirar o fôlego\,\
	n\ncom um lindo especial à U2 e QUEEN + Uma viagem no Rock anos 80\,90 e 2
	000\n\ne animando a pista a incrível DJ Karen Magliano !!!\n\nhttps://www.
	sympla.com.br/evento/especial-u2-e-queen-uma-viagem-no-rock-anos-80-90-e-2
	000/3377206\n[https://www.sympla.com.br/evento/especial-u2-e-queen-uma-via
	gem-no-rock-anos-80-90-e-2000/3377206]
URL:https://durockrj.com.br/event/capitao-coruja-especial-u2-e-queen-uma-vi
	agem-no-rock-anos-8090-e-2000
GEO:-22.8154184;-43.4179688
LOCATION:O Clã Pub - R. Dr. Manoel Reis\, 656 - Centro\, Nilópolis - RJ
STATUS:CONFIRMED
CATEGORIES:baixada fluminense,nilopolis
X-ALT-DESC;FMTTYPE=text/html:<p>A banda Capitão Coruja preparou um setlist 
	de tirar o fôlego,</p><p>com um lindo especial à U2 e QUEEN + Uma viagem n
	o Rock anos 80,90 e 2000</p><p>e animando a pista a incrível DJ Karen Magl
	iano !!!</p><p><a target="_blank" href="https://www.sympla.com.br/evento/e
	special-u2-e-queen-uma-viagem-no-rock-anos-80-90-e-2000/3377206">https://w
	ww.sympla.com.br/evento/especial-u2-e-queen-uma-viagem-no-rock-anos-80-90-
	e-2000/3377206</a></p>
BEGIN:VALARM
ACTION:DISPLAY
DESCRIPTION:Capitão Coruja - Especial U2 e QUEEN + Uma viagem no Rock anos 
	80,90 e 2000
TRIGGER:-PT1H
END:VALARM
END:VEVENT
END:VCALENDAR
