BEGIN:VCALENDAR
VERSION:2.0
CALSCALE:GREGORIAN
PRODID:adamgibbons/ics
METHOD:PUBLISH
X-PUBLISHED-TTL:PT1H
BEGIN:VEVENT
UID:259@durockrj.com.br
SUMMARY:Charlie Brown Jr. com a banda Magnatas
DTSTAMP:20260421T033531Z
DTSTART:20260425T210000Z
DESCRIPTION:PROGRAMAÇÃO TT GARAGE - SÁBADO - 25/04\n\nAtração Musical: Trib
	uto Charlie Brown Jr. com a banda Magnatas. DJ antes e após\na banda.\n\nP
	romoções:\nDose Dupla de Gin até 21:30h\;\nCervejas no balde: Pague 5 e le
	ve 6 até 21:30h\;\nDose dupla de Caipirinhas até meia noite.\n\n\n\n\n\n\n
	Informações:\nFuncionamento: 18h às 03h\;\nAniversários e reservas pelo Wh
	atsApp: 21967739560.\n\n\n\nhttps://www.sympla.com.br/evento/charlie-brown
	-jr-com-a-banda-magnatas-sabado-25-04/3351074?algoliaID=b5889b0958d2867950
	fb363fc46cc948\n[https://www.sympla.com.br/evento/charlie-brown-jr-com-a-b
	anda-magnatas-sabado-25-04/3351074?algoliaID=b5889b0958d2867950fb363fc46cc
	948&share_id=copiarlink]
URL:https://durockrj.com.br/event/charlie-brown-jr-com-a-banda-magnatas
GEO:-23.0084113;-43.2929832
LOCATION:TT Garage - Estr. do Joá\, 3425 - Joá\, Rio de Janeiro - RJ
STATUS:CONFIRMED
CATEGORIES:zona oeste,joa
X-ALT-DESC;FMTTYPE=text/html:<p><strong>PROGRAMAÇÃO TT GARAGE - SÁBADO - 25
	/04</strong><br><br><strong>Atração Musical: </strong>Tributo Charlie Brow
	n Jr. com a banda Magnatas. DJ antes e após a banda.</p><p><strong>Promoçõ
	es:</strong><br> Dose Dupla de Gin até 21:30h;<br> Cervejas no balde: Pagu
	e 5 e leve 6 até 21:30h;<br> Dose dupla de Caipirinhas até meia noite.<br>
	</p><p></p><p></p><p><strong>Informações:</strong><br> Funcionamento: 18h 
	às 03h;<br>Aniversários e reservas pelo WhatsApp: 21967739560.</p><p></p><
	p><a target="_blank" href="https://www.sympla.com.br/evento/charlie-brown-
	jr-com-a-banda-magnatas-sabado-25-04/3351074?algoliaID=b5889b0958d2867950f
	b363fc46cc948&amp;share_id=copiarlink">https://www.sympla.com.br/evento/ch
	arlie-brown-jr-com-a-banda-magnatas-sabado-25-04/3351074?algoliaID=b5889b0
	958d2867950fb363fc46cc948</a></p>
BEGIN:VALARM
ACTION:DISPLAY
DESCRIPTION:Charlie Brown Jr. com a banda Magnatas
TRIGGER:-PT1H
END:VALARM
END:VEVENT
END:VCALENDAR
