BEGIN:VCALENDAR
VERSION:2.0
CALSCALE:GREGORIAN
PRODID:adamgibbons/ics
METHOD:PUBLISH
X-PUBLISHED-TTL:PT1H
BEGIN:VEVENT
UID:268@durockrj.com.br
SUMMARY:Drunks 80 A Festa - Overdrive 80
DTSTAMP:20260421T034414Z
DTSTART:20260503T010000Z
DESCRIPTION:Sábado\, 02 de maio tem mais uma edição da festa mais nostálgic
	a do Rio: DRUNKS\n80 no palco do Drunks Pub!\n\nNo comando da noite\, a ba
	nda Overdrive vai trazer os maiores clássicos dos anos\n80 com um repertór
	io de arrepiar! Prepare-se pra cantar e dançar ao som de\nLegião urbana. P
	aralamas do sucesso\, lobão\, Rita Lee\, Cazuza\, plebe rude  e\nmuito mai
	s!\n\nAbertura da casa: 19h\n\nShow de abertura: 21h30\n\nChama os amigos 
	e vem curtir essa viagem no tempo no Drunks Pub!\n\nhttps://www.sympla.com
	.br/evento/drunks-80-a-festa-overdrive-80/3374501?algoliaID=04afab5a4b6355
	884c999c51a577649e\n[https://www.sympla.com.br/evento/drunks-80-a-festa-ov
	erdrive-80/3374501?algoliaID=04afab5a4b6355884c999c51a577649e&share_id=cop
	iarlink]
URL:https://durockrj.com.br/event/drunks-80-a-festa-overdrive-80
GEO:-22.9010188;-43.5672444
LOCATION:Drunks Pub - Estr. Rio do A\, 695 - Campo Grande\, Rio de Janeiro 
	- RJ
STATUS:CONFIRMED
CATEGORIES:zona oeste,campo grande
X-ALT-DESC;FMTTYPE=text/html:<p>Sábado, 02 de maio tem mais uma edição da f
	esta mais nostálgica do Rio: DRUNKS 80 no palco do Drunks Pub!</p><p>No co
	mando da noite, a banda Overdrive vai trazer os maiores clássicos dos anos
	 80 com um repertório de arrepiar! Prepare-se pra cantar e dançar ao som d
	e Legião urbana. Paralamas do sucesso, lobão, Rita Lee, Cazuza, plebe rude
	 &nbsp;e muito mais!</p><p>Abertura da casa: 19h</p><p>Show de abertura: 2
	1h30</p><p>Chama os amigos e vem curtir essa viagem no tempo no Drunks Pub
	!</p><p><a target="_blank" href="https://www.sympla.com.br/evento/drunks-8
	0-a-festa-overdrive-80/3374501?algoliaID=04afab5a4b6355884c999c51a577649e&
	amp;share_id=copiarlink">https://www.sympla.com.br/evento/drunks-80-a-fest
	a-overdrive-80/3374501?algoliaID=04afab5a4b6355884c999c51a577649e</a></p>
BEGIN:VALARM
ACTION:DISPLAY
DESCRIPTION:Drunks 80 A Festa - Overdrive 80
TRIGGER:-PT1H
END:VALARM
END:VEVENT
END:VCALENDAR
