BEGIN:VCALENDAR
VERSION:2.0
CALSCALE:GREGORIAN
PRODID:adamgibbons/ics
METHOD:PUBLISH
X-PUBLISHED-TTL:PT1H
BEGIN:VEVENT
UID:247@durockrj.com.br
SUMMARY:Emo Forever
DTSTAMP:20260422T085121Z
DTSTART:20260426T010000Z
DESCRIPTION:Emos cariocas\, chegou o dia de vocês!! 🖤🤍\n\nDia 25/04\, sábad
	o\, no @garagegrindhouserj\n[https://www.instagram.com/garagegrindhouserj/
	] o emo nunca morreu\, e vocês\nterão aquele encontro para curtir muita mú
	sica boa\, relembrar\, e reafirmar\,\nporque somos Emos Forever!!\n\nLine 
	Up:\n\n🎸 @papercutprojekt [https://www.instagram.com/papercutprojekt/] com
	 um super\ntributo a Linkin Park + Bring me The Horizon\n\n🎸 @erusrock [ht
	tps://www.instagram.com/erusrock/] com muito Emo nacional e\ninternacional
	\n\n🎸 @neweyesrj [https://www.instagram.com/neweyesrj/] com um super show 
	cover do\nParamore\n\nE enquanto as bandas não estiverem no palco\, vai ro
	lar aquela selecta especial\ncom o @djdrinn [https://www.instagram.com/djd
	rinn/] para deixar qualquer Emo\nmais “feliz” 🖤🤍\n\n🎫Os ingressos antecipa
	dos já estão disponíveis no site da Uticket (link na bio)\n\n📍Garage Grind
	house - Rua Ceará\, 154 - Praça da Bandeira\, Rio de Janeiro/RJ\n\n🕖 Abert
	ura da casa 22h\n\n🎟️ Adquira seu ingresso antecipado\, pague mais barato e
	 evite filas\n\n🔞 Evento para maiores de 18 anos - Menores apenas acompanh
	ado dos Pais ou\nResponsáveis Legais\n\nProdução - @saturnaliaproducoes [h
	ttps://www.instagram.com/saturnaliaproducoes/]
URL:https://durockrj.com.br/event/emo-forever
GEO:-22.909276;-43.2166421
LOCATION:Garage Grindhouse - R. Ceará\, 154 - Praça da Bandeira\, Rio de Ja
	neiro - RJ
STATUS:CONFIRMED
CATEGORIES:zona norte,praça da bandeira,saturnalia
X-ALT-DESC;FMTTYPE=text/html:<p>Emos cariocas, chegou o dia de vocês!! 🖤🤍<b
	r><br>Dia 25/04, sábado, no <a target="_blank" href="https://www.instagram
	.com/garagegrindhouserj/">@garagegrindhouserj</a> o emo nunca morreu, e vo
	cês terão aquele encontro para curtir muita música boa, relembrar, e reafi
	rmar, porque somos Emos Forever!!<br><br>Line Up:<br><br>🎸 <a target="_bla
	nk" href="https://www.instagram.com/papercutprojekt/">@papercutprojekt</a>
	 com um super tributo a Linkin Park + Bring me The Horizon<br><br>🎸 <a tar
	get="_blank" href="https://www.instagram.com/erusrock/">@erusrock</a> com 
	muito Emo nacional e internacional<br><br>🎸 <a target="_blank" href="https
	://www.instagram.com/neweyesrj/">@neweyesrj</a> com um super show cover do
	 Paramore<br><br>E enquanto as bandas não estiverem no palco, vai rolar aq
	uela selecta especial com o <a target="_blank" href="https://www.instagram
	.com/djdrinn/">@djdrinn</a> para deixar qualquer Emo mais “feliz” 🖤🤍<br><b
	r>🎫Os ingressos antecipados já estão disponíveis no site da Uticket (link 
	na bio)<br><br>📍Garage Grindhouse - Rua Ceará, 154 - Praça da Bandeira, Ri
	o de Janeiro/RJ<br><br>🕖 Abertura da casa 22h<br><br>🎟️ Adquira seu ingress
	o antecipado, pague mais barato e evite filas<br><br>🔞 Evento para maiores
	 de 18 anos - Menores apenas acompanhado dos Pais ou Responsáveis Legais<b
	r><br>Produção - <a target="_blank" href="https://www.instagram.com/saturn
	aliaproducoes/">@saturnaliaproducoes</a></p>
BEGIN:VALARM
ACTION:DISPLAY
DESCRIPTION:Emo Forever
TRIGGER:-PT1H
END:VALARM
END:VEVENT
END:VCALENDAR
