BEGIN:VCALENDAR
VERSION:2.0
CALSCALE:GREGORIAN
PRODID:adamgibbons/ics
METHOD:PUBLISH
X-PUBLISHED-TTL:PT1H
BEGIN:VEVENT
UID:271@durockrj.com.br
SUMMARY:Fábio Maia & Banda - Especial Legião Urbana e Capital Inicial
DTSTAMP:20260421T034659Z
DTSTART:20260509T010000Z
DESCRIPTION:SEXTA-FEIRA | 08 DE MAIO\n\nELES ESTÃO DE VOLTA\n\n\n\nUma noit
	e para celebrar o rock nacional que marcou gerações\n\n\n\nESPECIAL LEGIÃO
	 URBANA & CAPITAL INICIAL\n\nCom Fábio Maia & Banda\n\n\n\nReviva a força 
	e a poesia de Renato Russo\, um dos maiores ícones do rock\nbrasileiro\, e
	m um show emocionante que percorre os clássicos da Legião Urbana e\ndo Cap
	ital Inicial\, bandas fundamentais para o movimento rock nacional dos anos
	\n80 e 90.\n\nCanções que atravessaram o tempo\, letras intensas\, atitude
	 e muita energia no\npalco.\n\n\n\nAbertura da casa: 19h\n\nShow de abertu
	ra: 21h30\n\n\n\nPrepare-se para cantar\, se emocionar e viver uma experiê
	ncia única ao som de\nhinos que fizeram história no rock brasileiro.\n\nUm
	a homenagem à música\, à liberdade e à voz eterna de Renato Russo.\n\nhttp
	s://www.sympla.com.br/evento/especial-legiao-urbana-e-capital-inicial/3382
	320?algoliaID=35a36495f43b01f67f61bf271493d475\n[https://www.sympla.com.br
	/evento/especial-legiao-urbana-e-capital-inicial/3382320?algoliaID=35a3649
	5f43b01f67f61bf271493d475&share_id=copiarlink]
URL:https://durockrj.com.br/event/fabio-maia-and-banda-especial-legiao-urba
	na-e-capital-inicial
GEO:-22.9010188;-43.5672444
LOCATION:Drunks Pub - Estr. Rio do A\, 695 - Campo Grande\, Rio de Janeiro 
	- RJ
STATUS:CONFIRMED
CATEGORIES:zona oeste,campo grande
X-ALT-DESC;FMTTYPE=text/html:<p>SEXTA-FEIRA | 08 DE MAIO</p><p>ELES ESTÃO D
	E VOLTA</p><p></p><p>Uma noite para celebrar o rock nacional que marcou ge
	rações</p><p></p><p>ESPECIAL LEGIÃO URBANA &amp; CAPITAL INICIAL</p><p>Com
	 Fábio Maia &amp; Banda</p><p></p><p>Reviva a força e a poesia de Renato R
	usso, um dos maiores ícones do rock brasileiro, em um show emocionante que
	 percorre os clássicos da Legião Urbana e do Capital Inicial, bandas funda
	mentais para o movimento rock nacional dos anos 80 e 90.</p><p>Canções que
	 atravessaram o tempo, letras intensas, atitude e muita energia no palco.<
	/p><p></p><p>Abertura da casa: 19h</p><p>Show de abertura: 21h30</p><p></p
	><p>Prepare-se para cantar, se emocionar e viver uma experiência única ao 
	som de hinos que fizeram história no rock brasileiro.</p><p>Uma homenagem 
	à música, à liberdade e à voz eterna de Renato Russo.</p><p><a target="_bl
	ank" href="https://www.sympla.com.br/evento/especial-legiao-urbana-e-capit
	al-inicial/3382320?algoliaID=35a36495f43b01f67f61bf271493d475&amp;share_id
	=copiarlink">https://www.sympla.com.br/evento/especial-legiao-urbana-e-cap
	ital-inicial/3382320?algoliaID=35a36495f43b01f67f61bf271493d475</a></p>
BEGIN:VALARM
ACTION:DISPLAY
DESCRIPTION:Fábio Maia & Banda - Especial Legião Urbana e Capital Inicial
TRIGGER:-PT1H
END:VALARM
END:VEVENT
END:VCALENDAR
