BEGIN:VCALENDAR
VERSION:2.0
CALSCALE:GREGORIAN
PRODID:adamgibbons/ics
METHOD:PUBLISH
X-PUBLISHED-TTL:PT1H
BEGIN:VEVENT
UID:250@durockrj.com.br
SUMMARY:Geração MP3 Good Vibes
DTSTAMP:20260419T153216Z
DTSTART:20260620T210000Z
DESCRIPTION:Geração MP3 + Good Vibes: O Reencontro do Rio Core!\nA espera a
	cabou! Duas potências da cena se uniram para uma collab histórica. A\nGera
	ção MP3 e a Good Vibes apresentam o evento que vai te transportar\ndiretam
	ente para os anos 2000: Geração MP3 Good Vibes.\nPrepare o coração\, porqu
	e a essência do Rio Core está de volta!\nEste evento foi desenhado para qu
	em sente saudade daquela vibe única das pistas\ndo Rio\, da estética dos a
	nos 2000 e da união que só a nossa cena proporciona. É\ndia de reencontrar
	 os amigos\, cantar junto e celebrar a cena que nunca morreu.\n\n \n\nDIA 
	20 JUNHO-SÁB-18H\n\n \n\nINTEIRA: 70\,00\nMEIA 1º LOTE (20 PRIMEIROS INGRE
	SSOS) - R$ 25\,00\nMEIA 2º LOTE (ATÉ 0 70º INGRESSO) - R$ 30\,00\nMEIA 3º 
	LOTE (À PARTIR DO 71º INGRESSO) - R$ 35\,00\nSEGUNDO A RESOLUÇÃO 303/2015 
	TODOS PAGAM MEIA.\n\n \n\nCLASSIFICAÇÃO: 16 ANOS\n\n \n\nCancelamento de p
	edidos pagos\n\nCancelamentos de pedidos serão aceitos até 7 dias após a c
	ompra\, desde que a\nsolicitação seja enviada até 48 horas antes do início
	 do evento.\n\n \n\nNÃO HÁ LUGARES MARCADOS. OS ASSENTOS SÃO OCUPADOS POR 
	ORDEM DE CHEGADA.\n\nABERTURA DOS PORTÕES PREVISTA PARA 1 HORA ANTES DO HO
	RÁRIO AGENDADO PARA O\nESPETÁCULO.\n\n\n\nhttps://bileto.sympla.com.br/eve
	nt/115964\n[https://bileto.sympla.com.br/event/115964?share_id=1-copiarlin
	k]
URL:https://durockrj.com.br/event/geracao-mp3-good-vibes
GEO:-22.8781423;-43.4157425
LOCATION:Areninha Cultural Gilberto Gil - Av. Marechal Fontenele\, 5.000 - 
	Realengo\, Rio de Janeiro - RJ
STATUS:CONFIRMED
CATEGORIES:zona oeste,realengo
X-ALT-DESC;FMTTYPE=text/html:<p>Geração MP3 + Good Vibes: O Reencontro do R
	io Core!<br>A espera acabou! Duas potências da cena se uniram para uma col
	lab histórica. A Geração MP3 e a Good Vibes apresentam o evento que vai te
	 transportar diretamente para os anos 2000: Geração MP3 Good Vibes.<br>Pre
	pare o coração, porque a essência do Rio Core está de volta!<br>Este event
	o foi desenhado para quem sente saudade daquela vibe única das pistas do R
	io, da estética dos anos 2000 e da união que só a nossa cena proporciona. 
	É dia de reencontrar os amigos, cantar junto e celebrar a cena que nunca m
	orreu.</p><p>&nbsp;</p><p>DIA 20 JUNHO-SÁB-18H</p><p>&nbsp;</p><p>INTEIRA:
	 70,00<br>MEIA 1º LOTE (20 PRIMEIROS INGRESSOS) - R$ 25,00<br>MEIA 2º LOTE
	 (ATÉ 0 70º INGRESSO) - R$ 30,00<br>MEIA 3º LOTE (À PARTIR DO 71º INGRESSO
	) - R$ 35,00<br>SEGUNDO A RESOLUÇÃO 303/2015 TODOS PAGAM MEIA.</p><p>&nbsp
	;</p><p>CLASSIFICAÇÃO: 16 ANOS</p><p>&nbsp;</p><p><strong>Cancelamento de 
	pedidos pagos</strong></p><p>Cancelamentos de pedidos serão aceitos até 7 
	dias após a compra, desde que a solicitação seja enviada até 48 horas ante
	s do início do evento.</p><p>&nbsp;</p><p>NÃO HÁ LUGARES MARCADOS. OS ASSE
	NTOS SÃO OCUPADOS POR ORDEM DE CHEGADA.</p><p>ABERTURA DOS PORTÕES PREVIST
	A PARA 1 HORA ANTES DO HORÁRIO AGENDADO PARA O ESPETÁCULO.</p><p></p><p><a
	 target="_blank" href="https://bileto.sympla.com.br/event/115964?share_id=
	1-copiarlink">https://bileto.sympla.com.br/event/115964</a></p>
BEGIN:VALARM
ACTION:DISPLAY
DESCRIPTION:Geração MP3 Good Vibes
TRIGGER:-PT1H
END:VALARM
END:VEVENT
END:VCALENDAR
