BEGIN:VCALENDAR
VERSION:2.0
CALSCALE:GREGORIAN
PRODID:adamgibbons/ics
METHOD:PUBLISH
X-PUBLISHED-TTL:PT1H
BEGIN:VEVENT
UID:239@durockrj.com.br
SUMMARY:Gonzalo Gomez Blues | Mississippi Delta Blues Bar
DTSTAMP:20260419T154007Z
DTSTART:20260516T050000Z
DTEND:20260517T090000Z
DESCRIPTION:🎸🇧🇴Prepare-se para uma noite de Blues e Rock com Gonzalo Gomez\,
	 direto da Bolívia para o Brasil.\n\nAcompanhado por uma banda brasileira 
	formada por Blenio Blues\, Fabio Mesquita e Marco Bz\, o guitarrista apres
	enta um show que mistura composições autorais — como o sucesso “La Paz” — 
	com versões em espanhol de clássicos do The Rolling Stones\, como “Miss Yo
	u”.\n\nUma fusão potente entre blues rock e música brasileira\, com energi
	a\, groove e muita personalidade no palco.\n\nIngressos:\nhttps://meaple.c
	om.br/mrtrip/gonzalo-gomez-gogo-blues-mississippi-delta-blues-bar\n[https:
	//meaple.com.br/mrtrip/gonzalo-gomez-gogo-blues-mississippi-delta-blues-ba
	r]
URL:https://durockrj.com.br/event/gonzalo-gomez-blues-or-mississippi-delta-
	blues-bar
GEO:-22.8964214;-43.1946001
LOCATION:Mississippi Delta Blues Bar - R. Pedro Ernesto\, 89 - Gamboa\, Rio
	 de Janeiro - RJ
STATUS:CONFIRMED
CATEGORIES:centro,mrtrip
X-ALT-DESC;FMTTYPE=text/html:<p>🎸🇧🇴Prepare-se&nbsp;para&nbsp;uma&nbsp;noite&
	nbsp;de&nbsp;Blues&nbsp;e&nbsp;Rock&nbsp;com&nbsp;Gonzalo&nbsp;Gomez,&nbsp
	;direto&nbsp;da&nbsp;Bolívia&nbsp;para&nbsp;o&nbsp;Brasil.</p><p>Acompanha
	do&nbsp;por&nbsp;uma&nbsp;banda&nbsp;brasileira&nbsp;formada&nbsp;por&nbsp
	;Blenio&nbsp;Blues,&nbsp;Fabio&nbsp;Mesquita&nbsp;e&nbsp;Marco&nbsp;Bz,&nb
	sp;o&nbsp;guitarrista&nbsp;apresenta&nbsp;um&nbsp;show&nbsp;que&nbsp;mistu
	ra&nbsp;composições&nbsp;autorais&nbsp;—&nbsp;como&nbsp;o&nbsp;sucesso&nbs
	p;“La&nbsp;Paz”&nbsp;—&nbsp;com&nbsp;versões&nbsp;em&nbsp;espanhol&nbsp;de
	&nbsp;clássicos&nbsp;do&nbsp;The&nbsp;Rolling&nbsp;Stones,&nbsp;como&nbsp;
	“Miss&nbsp;You”.</p><p>Uma&nbsp;fusão&nbsp;potente&nbsp;entre&nbsp;blues&n
	bsp;rock&nbsp;e&nbsp;música&nbsp;brasileira,&nbsp;com&nbsp;energia,&nbsp;g
	roove&nbsp;e&nbsp;muita&nbsp;personalidade&nbsp;no&nbsp;palco.</p><p>Ingre
	ssos: <a target="_blank" href="https://meaple.com.br/mrtrip/gonzalo-gomez-
	gogo-blues-mississippi-delta-blues-bar">https://meaple.com.br/mrtrip/gonza
	lo-gomez-gogo-blues-mississippi-delta-blues-bar</a></p>
BEGIN:VALARM
ACTION:DISPLAY
DESCRIPTION:Gonzalo Gomez Blues | Mississippi Delta Blues Bar
TRIGGER:-PT1H
END:VALARM
END:VEVENT
END:VCALENDAR
