BEGIN:VCALENDAR
VERSION:2.0
CALSCALE:GREGORIAN
PRODID:adamgibbons/ics
METHOD:PUBLISH
X-PUBLISHED-TTL:PT1H
BEGIN:VEVENT
UID:243@durockrj.com.br
SUMMARY:Holster Grunge Raiz
DTSTAMP:20260419T152319Z
DTSTART:20260417T230000Z
DTEND:20260418T070000Z
DESCRIPTION:⚠️ GRUNGE NA VEIA. SEM FILTRO. SEM DESCULPA.\n\n\n\n\nDia 17 de 
	abril (sexta) o Tribus vira Seattle.\n\n\n\n\nA HOLSTER chega rasgando com
	 os clássicos que marcaram uma geração:\n🔥 Silverchair\n🔥 Soundgarden\n🔥 A
	lice In Chains\n🔥 E MUITO MAIS!\n\n\n\n\nSe você viveu… você sabe.\nSe não
	 viveu… essa é a chance de sentir na pele.\n\n\n\n\n⏳ Ingressos já liberad
	os — e não vão durar.\nVirada de lote a qualquer momento.\n\n\n\n\n🎟️ Garan
	ta o seu agora: ARTICKET.COM.BR [http://ARTICKET.COM.BR]\n📍 Av. Nilo Peçan
	ha\, 1521 – Rancho Novo – Nova Iguaçu\n\n\n\n\nSexta é dia de cantar alto\
	, beber gelado e sair sem voz.\n\n\n\n\nNos vemos na pista. 🎸🔥
URL:https://durockrj.com.br/event/holster-grunge-raiz
GEO:-22.7494599;-43.440671
LOCATION:Tribus Pub - Av. Nilo Peçanha\, 1521 - Rancho Novo\, Nova Iguaçu -
	 RJ
STATUS:CONFIRMED
CATEGORIES:nova iguaçu,baixada fluminense
X-ALT-DESC;FMTTYPE=text/html:<p>⚠️ GRUNGE NA VEIA. SEM FILTRO. SEM DESCULPA.
	</p><p><br></p><p>Dia 17 de abril (sexta) o Tribus vira Seattle.</p><p><br
	></p><p>A HOLSTER chega rasgando com os clássicos que marcaram uma geração
	:<br>🔥 Silverchair<br>🔥 Soundgarden<br>🔥 Alice In Chains<br>🔥 E MUITO MAIS
	!</p><p><br></p><p>Se você viveu… você sabe.<br>Se não viveu… essa é a cha
	nce de sentir na pele.</p><p><br></p><p>⏳ Ingressos já liberados — e não v
	ão durar.<br>Virada de lote a qualquer momento.</p><p><br></p><p>🎟️ Garanta
	 o seu agora: <a target="_blank" href="http://ARTICKET.COM.BR">ARTICKET.CO
	M.BR</a><br>📍 Av. Nilo Peçanha, 1521 – Rancho Novo – Nova Iguaçu</p><p><br
	></p><p>Sexta é dia de cantar alto, beber gelado e sair sem voz.</p><p><br
	></p><p>Nos vemos na pista. 🎸🔥</p>
BEGIN:VALARM
ACTION:DISPLAY
DESCRIPTION:Holster Grunge Raiz
TRIGGER:-PT1H
END:VALARM
END:VEVENT
END:VCALENDAR
