BEGIN:VCALENDAR
VERSION:2.0
CALSCALE:GREGORIAN
PRODID:adamgibbons/ics
METHOD:PUBLISH
X-PUBLISHED-TTL:PT1H
BEGIN:VEVENT
UID:241@durockrj.com.br
SUMMARY:Hurricanes | Coordenadas Bar
DTSTAMP:20260419T152306Z
DTSTART:20260607T230000Z
DTEND:20260608T040000Z
DESCRIPTION:A banda Hurricanes consolida seu lugar como um dos grandes nome
	s do novo rock\nbrasileiro e desembarca no Rio de Janeiro em um momento es
	pecial. Após uma\napresentação eletrizante no Lollapalooza Brasil 2026 e d
	e passagens marcantes\npor festivais como o Best of Blues & Rock (onde div
	idiram o palco com Deep\nPurple)\, o quarteto agora celebra o lançamento d
	e seu aguardado terceiro álbum\nde estúdio. Com um som autoral que une a a
	lma do blues rock dos anos 70 a uma\nenergia contemporânea\, a banda — que
	 já foi elogiada pelos americanos do The\nBlack Crowes — promete uma noite
	 de rock & roll puro e explosivo.\n\nDestaque constante na crítica especia
	lizada\, com o disco Back to the Basement\neleito um dos melhores de 2024 
	pela Rolling Stone\, os Hurricanes trazem ao\nCoordenadas Bar as canções i
	néditas deste novo trabalho. O show marca uma fase\nde maturidade e espont
	aneidade do grupo\, apresentando singles como “Freedom” em\numa performanc
	e vibrante que já se tornou marca registrada da banda nos\nprincipais palc
	os do país.\n\nSERVIÇO: LANÇAMENTO 3º ÁLBUM HURRICANES 🎸\n\n🗓 Data: 7 de j
	unho (Domingo)\n\n🕘 Horário: 21h\n\n📍 Local: Coordenadas Bar (Rua da Passa
	gem\, 19 - Botafogo)\n\n🎟 Ingressos: https://meaple.com.br/coordenadasbar/
	hurricanes-coordenadas-bar-rj\n[https://meaple.com.br/coordenadasbar/hurri
	canes-coordenadas-bar-rj]\n\n⚡ Realização: Mr. Trip Produções
URL:https://durockrj.com.br/event/hurricanes-or-coordenadas-bar
GEO:-22.9512279;-43.1817393
LOCATION:Coordenadas Bar - Rua da Passagem\, 19 - Botafogo\, Rio de Janeiro
	 - RJ
STATUS:CONFIRMED
CATEGORIES:zona sul,botafogo,mrtrip
X-ALT-DESC;FMTTYPE=text/html:<p>A banda <strong>Hurricanes</strong> consoli
	da seu lugar como um dos grandes nomes do novo rock brasileiro e desembarc
	a no Rio de Janeiro em um momento especial. Após uma apresentação eletriza
	nte no <strong>Lollapalooza Brasil 2026</strong> e de passagens marcantes 
	por festivais como o Best of Blues &amp; Rock (onde dividiram o palco com 
	Deep Purple), o quarteto agora celebra o lançamento de seu aguardado terce
	iro álbum de estúdio. Com um som autoral que une a alma do blues rock dos 
	anos 70 a uma energia contemporânea, a banda — que já foi elogiada pelos a
	mericanos do <strong>The Black Crowes</strong> — promete uma noite de rock
	 &amp; roll puro e explosivo.</p><p>Destaque constante na crítica especial
	izada, com o disco Back to the Basement eleito um dos melhores de 2024 pel
	a Rolling Stone, os Hurricanes trazem ao Coordenadas Bar as canções inédit
	as deste novo trabalho. O show marca uma fase de maturidade e espontaneida
	de do grupo, apresentando singles como “Freedom” em uma performance vibran
	te que já se tornou marca registrada da banda nos principais palcos do paí
	s.</p><p><strong>SERVIÇO: LANÇAMENTO 3º ÁLBUM HURRICANES</strong> 🎸</p><p>
	🗓 <strong>Data:</strong> 7 de junho (Domingo)</p><p>🕘 <strong>Horário:</st
	rong> 21h</p><p>📍 <strong>Local:</strong> Coordenadas Bar (Rua da Passagem
	, 19 - Botafogo)</p><p>🎟 <strong>Ingressos:</strong> <a target="_blank" hr
	ef="https://meaple.com.br/coordenadasbar/hurricanes-coordenadas-bar-rj">ht
	tps://meaple.com.br/coordenadasbar/hurricanes-coordenadas-bar-rj</a></p><p
	>⚡ <strong>Realização:</strong> Mr. Trip Produções</p>
BEGIN:VALARM
ACTION:DISPLAY
DESCRIPTION:Hurricanes | Coordenadas Bar
TRIGGER:-PT1H
END:VALARM
END:VEVENT
END:VCALENDAR
