BEGIN:VCALENDAR
VERSION:2.0
CALSCALE:GREGORIAN
PRODID:adamgibbons/ics
METHOD:PUBLISH
X-PUBLISHED-TTL:PT1H
BEGIN:VEVENT
UID:284@durockrj.com.br
SUMMARY:Kover e Tru?st - Tributo ao Korn e Limp Bizkit
DTSTAMP:20260421T223718Z
DTSTART:20260503T000000Z
DESCRIPTION:ARE YOU READY?\nSábado\, 2 de maio… a noite é pra quem carrega 
	o peso do som no peito.\n\nSe Korn já foi trilha dos seus dias mais sombri
	os…\nSe Limp Bizkit já te fez perder a voz em cada refrão…\n\nEntão você n
	ão precisa de explicação.\nEssa é daquelas noites cruas.\n\nGuitarra rasga
	ndo. Grave batendo.\nGente cantando junto como se fosse a última música da
	 vida.\n\n🔥 ARE YOU READY TO LOSE CONTROL? 🔥\n\n📍 Pilo’s Pub\n🗓 Sábado | 2
	 de maio\n⏰ A partir das 21h\n\n⚠️ Evento proibido para menores de 18 anos.
	\nEntrada permitida apenas acompanhados por responsáveis legais.
URL:https://durockrj.com.br/event/kover-e-trust-tributo-ao-korn-e-limp-bizk
	it
GEO:-22.9121172;-43.5595948
LOCATION:Pilo’s Pub - R. Dr. Ibraim Hannas\, 505 - Campo Grande\, Rio de Ja
	neiro - RJ
STATUS:CONFIRMED
CATEGORIES:zona oeste,campo grande
X-ALT-DESC;FMTTYPE=text/html:<p>ARE YOU READY?<br>Sábado, 2 de maio… a noit
	e é pra quem carrega o peso do som no peito.<br><br>Se Korn já foi trilha 
	dos seus dias mais sombrios…<br>Se Limp Bizkit já te fez perder a voz em c
	ada refrão…<br><br>Então você não precisa de explicação.<br>Essa é daquela
	s noites cruas.<br><br>Guitarra rasgando. Grave batendo.<br>Gente cantando
	 junto como se fosse a última música da vida.<br><br>🔥 ARE YOU READY TO LO
	SE CONTROL? 🔥<br><br>📍 Pilo’s Pub<br>🗓 Sábado | 2 de maio<br>⏰ A partir da
	s 21h<br><br>⚠️ Evento proibido para menores de 18 anos.<br>Entrada permiti
	da apenas acompanhados por responsáveis legais.</p>
BEGIN:VALARM
ACTION:DISPLAY
DESCRIPTION:Kover e Tru?st - Tributo ao Korn e Limp Bizkit
TRIGGER:-PT1H
END:VALARM
END:VEVENT
END:VCALENDAR
