BEGIN:VCALENDAR
VERSION:2.0
CALSCALE:GREGORIAN
PRODID:adamgibbons/ics
METHOD:PUBLISH
X-PUBLISHED-TTL:PT1H
BEGIN:VEVENT
UID:264@durockrj.com.br
SUMMARY:Libro + Sots
DTSTAMP:20260421T033029Z
DTSTART:20260429T230000Z
DESCRIPTION:ROCK ALLIANCE\n\nDuas bandas. Uma missão. Uma noite.\n\n \n\nO 
	rock cristão brasileiro ganha um evento à altura de sua força: o Rock Alli
	ance\nreúne em um mesmo palco duas das bandas mais expressivas da cena nac
	ional —\nLIBRO e SOTS (Story Of The Son).\n\n\nSOTS (STORY OF THE SON) — S
	ÃO PAULO\n\nDe São Paulo\, a SOTS chega com toda a intensidade do hardcore
	 e metalcore\nmisturados ao pop alternativo. Formada em 2015\, o grupo con
	strói uma trajetória\nmarcada por riffs pesados\, letras densas e uma mens
	agem direta de fé\, esperança\ne confrontação de verdades — sem concessões
	\, sem meias palavras.\n\n\nLIBRO — RIO DE JANEIRO\n\nDo Rio de Janeiro\, 
	a LIBRO traz seu rock gospel de peso\, com uma discografia que\nvai do álb
	um homônimo de 2018 ao recente single "Para quem eu irei?" (2024).\nFormad
	a por Fillipe Roz (voz)\, Jeff Araujo e Erick Lima (guitarras)\, Rodrigo\n
	Cunha (baixo) e Roger Cataldo (bateria)\, a banda já dividiu palco com o O
	ficina\nG3\, representou o Rio de Janeiro no Toca Rock Fest SP e se aprese
	ntou no Teatro\nPetrobras Nova Iguaçu — provando que é uma das bandas mais
	 consistentes e\nexperientes do gênero.\n\n \n\nJuntas\, as duas bandas fo
	rmam uma noite que é mais do que um show: é uma\ndeclaração de que o rock 
	cristão brasileiro tem voz\, peso e propósito.\n\nNão perca.\n\nRock Allia
	nce — LIBRO + SOTS\n\n@librooficial  |  @sotsrock\n\n \n\nClassificação et
	ária – 10 anos\n\nhttps://bileto.sympla.com.br/event/118558\n[https://bile
	to.sympla.com.br/event/118558?share_id=1-copiarlink]
URL:https://durockrj.com.br/event/libro-sots
GEO:-22.9780313;-43.191129
LOCATION:Teatro Brigitte Blair - R. Miguel Lemos\, 51 - h - Copacabana\, Ri
	o de Janeiro - RJ
STATUS:CONFIRMED
CATEGORIES:zona sul,copacabana
X-ALT-DESC;FMTTYPE=text/html:<h1><strong>ROCK ALLIANCE</strong></h1><p><em>
	Duas bandas. Uma missão. Uma noite.</em></p><p>&nbsp;</p><p>O rock cristão
	 brasileiro ganha um evento à altura de sua força: o <strong>Rock Alliance
	</strong> reúne em um mesmo palco duas das bandas mais expressivas da cena
	 nacional — <strong>LIBRO</strong> e <strong>SOTS (Story Of The Son)</stro
	ng>.</p><h3><strong>SOTS (Story Of The Son) — São Paulo</strong></h3><p>De
	 São Paulo, a <strong>SOTS</strong> chega com toda a intensidade do hardco
	re e metalcore misturados ao pop alternativo. Formada em 2015, o grupo con
	strói uma trajetória marcada por riffs pesados, letras densas e uma mensag
	em direta de fé, esperança e confrontação de verdades — sem concessões, se
	m meias palavras.</p><h3><strong>LIBRO — Rio de Janeiro</strong></h3><p>Do
	 Rio de Janeiro, a <strong>LIBRO</strong> traz seu rock gospel de peso, co
	m uma discografia que vai do álbum homônimo de 2018 ao recente single <em>
	"Para quem eu irei?"</em> (2024). Formada por Fillipe Roz (voz), Jeff Arau
	jo e Erick Lima (guitarras), Rodrigo Cunha (baixo) e Roger Cataldo (bateri
	a), a banda já dividiu palco com o Oficina G3, representou o Rio de Janeir
	o no Toca Rock Fest SP e se apresentou no Teatro Petrobras Nova Iguaçu — p
	rovando que é uma das bandas mais consistentes e experientes do gênero.</p
	><p>&nbsp;</p><p><em>Juntas, as duas bandas formam uma noite que é mais do
	 que um show: é uma declaração de que o rock cristão brasileiro tem voz, p
	eso e propósito.</em></p><p><strong>Não perca.</strong></p><p><strong>Rock
	 Alliance — LIBRO + SOTS</strong></p><p>@librooficial&nbsp; |&nbsp; @sotsr
	ock</p><p>&nbsp;</p><p>Classificação etária – 10 anos</p><p><a target="_bl
	ank" href="https://bileto.sympla.com.br/event/118558?share_id=1-copiarlink
	">https://bileto.sympla.com.br/event/118558</a></p>
BEGIN:VALARM
ACTION:DISPLAY
DESCRIPTION:Libro + Sots
TRIGGER:-PT1H
END:VALARM
END:VEVENT
END:VCALENDAR
