BEGIN:VCALENDAR
VERSION:2.0
CALSCALE:GREGORIAN
PRODID:adamgibbons/ics
METHOD:PUBLISH
X-PUBLISHED-TTL:PT1H
BEGIN:VEVENT
UID:240@durockrj.com.br
SUMMARY:Lynyrd Nation | Blue Note Rio
DTSTAMP:20260419T153222Z
DTSTART:20260521T060000Z
DTEND:20260522T090000Z
DESCRIPTION:✨Lynyrd Nation no Blue Note Rio\n\nPrepare-se para uma noite de
	 pura energia sulista com a Lynyrd Nation\, a banda\nde Niterói que há mai
	s de uma década honra o legado do lendário Lynyrd Skynyrd.\nFormado em 201
	4 por um grupo de amigos apaixonados pelo gênero\, o tributo recria\ncom m
	aestria a atmosfera das estradas americanas\, trazendo para o palco a\nicô
	nica formação de três guitarras que definiu uma geração. Com uma trajetóri
	a\nsólida que já percorreu diversos palcos entre Rio de Janeiro e São Paul
	o\, o\ngrupo promete uma performance vibrante e fiel à história do Souther
	n Rock. \n\nNo palco do Blue Note Rio\, a Lynyrd Nation celebra os grandes
	 sucessos que\ncontinuam a inspirar fãs de todas as idades. O público pode
	 esperar uma setlist\nrecheada de clássicos indispensáveis\, como a inconf
	undível "Sweet Home Alabama"\,\na emocionante "Simple Man" e o hino épico 
	"Free Bird". Será uma celebração\nimperdível\, unindo o virtuosismo técnic
	o dos músicos à paixão visceral que\napenas os grandes hinos do rock podem
	 proporcionar.\n\n🎫Ingressos:\nhttps://www.eventim.com.br/artist/blue-note
	-rio/tributo-lynyrd-skynyrd-lynyrd-nation-4129554/\n[https://www.eventim.c
	om.br/artist/blue-note-rio/tributo-lynyrd-skynyrd-lynyrd-nation-4129554/]
URL:https://durockrj.com.br/event/lynyrd-nation-or-blue-note-rio
GEO:-22.9683707;-43.1806576
LOCATION:Blue Note Rio - Av. Atlântica\, 1910 - Copacabana\, Rio de Janeiro
	 - RJ
STATUS:CONFIRMED
CATEGORIES:zona sul,copacabana,mrtrip
X-ALT-DESC;FMTTYPE=text/html:<p>✨<strong>Lynyrd Nation no Blue Note Rio</st
	rong></p><p>Prepare-se para uma noite de pura energia sulista com a <stron
	g>Lynyrd Nation</strong>, a banda de Niterói que há mais de uma década hon
	ra o legado do lendário <strong>Lynyrd Skynyrd</strong>. Formado em 2014 p
	or um grupo de amigos apaixonados pelo gênero, o tributo recria com maestr
	ia a atmosfera das estradas americanas, trazendo para o palco a icônica fo
	rmação de três guitarras que definiu uma geração. Com uma trajetória sólid
	a que já percorreu diversos palcos entre Rio de Janeiro e São Paulo, o gru
	po promete uma performance vibrante e fiel à história do Southern Rock.&nb
	sp;</p><p>No palco do <strong>Blue Note Rio</strong>, a Lynyrd Nation cele
	bra os grandes sucessos que continuam a inspirar fãs de todas as idades. O
	 público pode esperar uma setlist recheada de clássicos indispensáveis, co
	mo a inconfundível <strong>"Sweet Home Alabama"</strong>, a emocionante <s
	trong>"Simple Man"</strong> e o hino épico <strong>"Free Bird"</strong>. S
	erá uma celebração imperdível, unindo o virtuosismo técnico dos músicos à 
	paixão visceral que apenas os grandes hinos do rock podem proporcionar.</p
	><p>🎫Ingressos: <a target="_blank" href="https://www.eventim.com.br/artist
	/blue-note-rio/tributo-lynyrd-skynyrd-lynyrd-nation-4129554/">https://www.
	eventim.com.br/artist/blue-note-rio/tributo-lynyrd-skynyrd-lynyrd-nation-4
	129554/</a></p>
BEGIN:VALARM
ACTION:DISPLAY
DESCRIPTION:Lynyrd Nation | Blue Note Rio
TRIGGER:-PT1H
END:VALARM
END:VEVENT
END:VCALENDAR
