BEGIN:VCALENDAR
VERSION:2.0
CALSCALE:GREGORIAN
PRODID:adamgibbons/ics
METHOD:PUBLISH
X-PUBLISHED-TTL:PT1H
BEGIN:VEVENT
UID:260@durockrj.com.br
SUMMARY:Magma
DTSTAMP:20260421T033034Z
DTSTART:20260425T230000Z
DESCRIPTION:Entre o caos e a beleza\, existe um som único\, e é exatamente 
	aí que vive a\nMagma. Combinando riffs pesados com melodias marcantes\, o 
	show percorre\nclássicos do metal\, pérolas pouco exploradas e versões ine
	speradas de hits pop\nem versões mais intensas.\n\nUma apresentação feita 
	para quem gosta de sentir a música\, não apenas ouvir.\n\n\n\n-----\n\nGar
	anta seu ingresso antecipado\, casa sujeita à lotação.\n\nhttps://www.symp
	la.com.br/evento/magma-no-musicorum/3374989?algoliaID=b5889b0958d2867950fb
	363fc46cc948\n[https://www.sympla.com.br/evento/magma-no-musicorum/3374989
	?algoliaID=b5889b0958d2867950fb363fc46cc948&share_id=copiarlink]
URL:https://durockrj.com.br/event/magma
GEO:-22.9417922;-43.1809828
LOCATION:Musicorum Bar e Estúdio - Rua Farani\, 18 - Botafogo\, Rio de Jane
	iro - RJ
STATUS:CONFIRMED
CATEGORIES:zona sul,botafogo
X-ALT-DESC;FMTTYPE=text/html:<p>Entre o caos e a beleza, existe um som únic
	o, e é exatamente aí que vive a Magma. Combinando riffs pesados com melodi
	as marcantes, o show percorre clássicos do metal, pérolas pouco exploradas
	 e versões inesperadas de hits pop em versões mais intensas.</p><p>Uma apr
	esentação feita para quem gosta de sentir a música, não apenas ouvir.</p><
	p></p><p>-----</p><p>Garanta seu ingresso antecipado, casa sujeita à lotaç
	ão.</p><p><a target="_blank" href="https://www.sympla.com.br/evento/magma-
	no-musicorum/3374989?algoliaID=b5889b0958d2867950fb363fc46cc948&amp;share_
	id=copiarlink">https://www.sympla.com.br/evento/magma-no-musicorum/3374989
	?algoliaID=b5889b0958d2867950fb363fc46cc948</a></p>
BEGIN:VALARM
ACTION:DISPLAY
DESCRIPTION:Magma
TRIGGER:-PT1H
END:VALARM
END:VEVENT
END:VCALENDAR
