BEGIN:VCALENDAR
VERSION:2.0
CALSCALE:GREGORIAN
PRODID:adamgibbons/ics
METHOD:PUBLISH
X-PUBLISHED-TTL:PT1H
BEGIN:VEVENT
UID:249@durockrj.com.br
SUMMARY:Metallica - Black Álbum Sinfônico
DTSTAMP:20260419T153914Z
DTSTART:20260513T230000Z
DESCRIPTION:Orquestra Petrobras Sinfônica apresenta concerto “Black Album S
	infônico”\, com\nmúsicas do Metallica\, na Cidade das Artes\, em 13 de mai
	o \n\nO que acontece quando o peso do Metallica encontra a potência de uma
	 grande\norquestra? 🎸🎻 \n\nNo dia 13 de maio\, às 20h\, a Orquestra Petrob
	ras Sinfônica sobe ao palco da\nCidade das Artes para apresentar o concert
	o Black Album Sinfônico\, com versões\norquestradas das músicas do icônico
	 disco “Metallica”\, que completa 35 anos em\n2026. \n\nSob regência de Fe
	lipe Prazeres\, clássicos como Enter Sandman\, Nothing Else\nMatters e The
	 Unforgiven ganham arranjos exclusivos de Ricardo Candido\,\ncontrabaixist
	a da orquestra. Violinos elétricos assumem os solos imortalizados\npor Jam
	es Hetfield e Kirk Hammett\, em uma releitura que une potência\, precisão 
	e\nemoção. \n\nUma celebração sinfônica do álbum que redefiniu o som da ba
	nda e marcou\ngerações. 🤘\n\nPrograma:\n\nOrquestra Petrobras Sinfônica - 
	Black Album Sinfônico (Metallica)\n\nFelipe Prazeres\, regência\n\nRicardo
	 Candido\, arranjos\n\n \n\nENNIO MORRICONE\n\nThe Ecstasy of Gold \n\nKIR
	K HAMMETT / LARS ULRICH / JAMES HETFIELD\n\nEnter Sandman \n\nLARS ULRICH 
	/ JAMES HETFIELD\n\nSad but True \n\nJAMES HETFIELD / LARS ULRICH\n\nHolie
	r than Thou \n\nKIRK HAMMETT / LARS ULRICH / JAMES HETFIELD\n\nThe Unforgi
	ven \n\nLARS ULRICH / KIRK HAMMETT\n\nWherever I May Roam\n\nLARS ULRICH /
	 KIRK HAMMETT\n\nDon’t Tread on Me\n\nKIRK HAMMETT / JAMES HETFIELD / LARS
	 ULRICH\n\nThrough the Never \n\nJAMES HETFIELD / LARS ULRICH\n\nNothing E
	lse Matters\n\nKIRK HAMMETT / LARS ULRICH / JAMES HETFIELD\n\nOf Wolf and 
	Man\n\nLARS ULRICH / JAMES HETFIELD\n\nThe God that Failed\n\nJASON NEWSTE
	D / JAMES HETFIELD / LARS ULRICH\n\nMy Friend of Misery\n\nJAMES HETFIELD 
	/ LARS ULRICH\n\nThe Struggle Within\n\nCLIFFORD BURTON / JAMES HETFIELD /
	 KIRK HAMMETT / LARS ULRICH\n\nMaster of Puppets\n\n \n\nSERVIÇO:\n\nLOCAL
	: Grande Sala\n\nCLASSIFICAÇÃO:LIVRE\n\nDURAÇÃO: 80 minutos\n\n\n\nhttps:/
	/bileto.sympla.com.br/event/119231\n[https://bileto.sympla.com.br/event/11
	9231?share_id=1-copiarlink]
URL:https://durockrj.com.br/event/metallica-black-album-sinfonico
GEO:-22.9990757;-43.3658289
LOCATION:Cidade das Artes - Av. das Américas\, 5300 - Barra da Tijuca\, Rio
	 de Janeiro - RJ
STATUS:CONFIRMED
CATEGORIES:zona oeste,barra da tijuca
X-ALT-DESC;FMTTYPE=text/html:<p><strong>Orquestra Petrobras Sinfônica apres
	enta concerto “Black Album Sinfônico”, com músicas do Metallica, na Cidade
	 das Artes, em 13 de maio&nbsp;</strong></p><p>O que acontece quando o pes
	o do <strong>Metallica </strong>encontra a potência de uma grande orquestr
	a? <strong>🎸🎻</strong>&nbsp;</p><p>No dia <strong>13 de maio</strong>, às 
	20h, a <strong>Orquestra Petrobras Sinfônica</strong> sobe ao palco da <st
	rong>Cidade das Artes </strong>para apresentar o concerto <strong>Black Al
	bum Sinfônico</strong>, com versões orquestradas das músicas do icônico di
	sco “Metallica”, que completa 35 anos em 2026.&nbsp;</p><p>Sob regência de
	 <strong>Felipe Prazeres</strong>, clássicos como <strong>Enter Sandman</s
	trong>, <strong>Nothing Else Matters</strong> e <strong>The Unforgiven</st
	rong> ganham arranjos exclusivos de <strong>Ricardo Candido</strong>, cont
	rabaixista da orquestra. Violinos elétricos assumem os solos imortalizados
	 por James Hetfield e Kirk Hammett, em uma releitura que une potência, pre
	cisão e emoção.&nbsp;</p><p>Uma celebração sinfônica do álbum que redefini
	u o som da banda e marcou gerações. <strong>🤘</strong></p><p><strong><u>Pr
	ograma</u>:</strong></p><p><strong>Orquestra Petrobras Sinfônica - Black A
	lbum Sinfônico (Metallica)</strong></p><p><strong>Felipe Prazeres</strong>
	, regência</p><p><strong>Ricardo Candido</strong>, arranjos</p><p>&nbsp;</
	p><p>ENNIO MORRICONE</p><p><strong>The Ecstasy of Gold</strong>&nbsp;</p><
	p>KIRK HAMMETT / LARS ULRICH / JAMES HETFIELD</p><p><strong>Enter Sandman<
	/strong>&nbsp;</p><p>LARS ULRICH / JAMES HETFIELD</p><p><strong>Sad but Tr
	ue</strong>&nbsp;</p><p>JAMES HETFIELD / LARS ULRICH</p><p><strong>Holier 
	than Thou</strong>&nbsp;</p><p>KIRK HAMMETT / LARS ULRICH / JAMES HETFIELD
	</p><p><strong>The Unforgiven</strong>&nbsp;</p><p>LARS ULRICH / KIRK HAMM
	ETT</p><p><strong>Wherever I May Roam</strong></p><p>LARS ULRICH / KIRK HA
	MMETT</p><p><strong>Don’t Tread on Me</strong></p><p>KIRK HAMMETT / JAMES 
	HETFIELD / LARS ULRICH</p><p><strong>Through the Never</strong>&nbsp;</p><
	p>JAMES HETFIELD / LARS ULRICH</p><p><strong>Nothing Else Matters</strong>
	</p><p>KIRK HAMMETT / LARS ULRICH / JAMES HETFIELD</p><p><strong>Of Wolf a
	nd Man</strong></p><p>LARS ULRICH / JAMES HETFIELD</p><p><strong>The God t
	hat Failed</strong></p><p>JASON NEWSTED / JAMES HETFIELD / LARS ULRICH</p>
	<p><strong>My Friend of Misery</strong></p><p>JAMES HETFIELD / LARS ULRICH
	</p><p><strong>The Struggle Within</strong></p><p>CLIFFORD BURTON / JAMES 
	HETFIELD / KIRK HAMMETT / LARS ULRICH</p><p><strong>Master of Puppets</str
	ong></p><p>&nbsp;</p><p><strong>SERVIÇO:</strong></p><p>LOCAL: Grande Sala
	</p><p>CLASSIFICAÇÃO:LIVRE</p><p>DURAÇÃO: 80&nbsp;minutos</p><p></p><p><a 
	target="_blank" href="https://bileto.sympla.com.br/event/119231?share_id=1
	-copiarlink">https://bileto.sympla.com.br/event/119231</a></p>
BEGIN:VALARM
ACTION:DISPLAY
DESCRIPTION:Metallica - Black Álbum Sinfônico
TRIGGER:-PT1H
END:VALARM
END:VEVENT
END:VCALENDAR
