BEGIN:VCALENDAR
VERSION:2.0
CALSCALE:GREGORIAN
PRODID:adamgibbons/ics
METHOD:PUBLISH
X-PUBLISHED-TTL:PT1H
BEGIN:VEVENT
UID:263@durockrj.com.br
SUMMARY:Motocando Rock
DTSTAMP:20260421T034136Z
DTSTART:20260426T160000Z
DESCRIPTION:Espaço com bandas ao vivo e Dj´s tocando muita musica boa dos a
	nos 70/80/90. O\nRetro Bar 1141 é a ideia de unir o antigo e o novo em um 
	Galpão.\n\nRua Doutor Nunes 1141 - Olaria\, Rio de Janeiro\, Rio de Janeir
	o 21021-370\n\nEncontro mensal de carros e motos\n\n2 Bandas ao vivo\n\nht
	tps://www.sympla.com.br/evento/motocando-rock-abril/3374738?algoliaID=106d
	f36988a0918c1e3080b4fbb7680d\n[https://www.sympla.com.br/evento/motocando-
	rock-abril/3374738?algoliaID=106df36988a0918c1e3080b4fbb7680d&share_id=cop
	iarlink]
URL:https://durockrj.com.br/event/motocando-rock
GEO:-22.8386367;-43.2596058
LOCATION:Retrô Bar 1141 - R. Dr. Nunes\, 1141 - Olaria\, Rio de Janeiro - R
	J
STATUS:CONFIRMED
CATEGORIES:zona norte,olaria
X-ALT-DESC;FMTTYPE=text/html:<p>Espaço com bandas ao vivo e Dj´s tocando mu
	ita musica boa dos anos 70/80/90. O Retro Bar 1141 é a ideia de unir o ant
	igo e o novo em um Galpão.</p><p>Rua Doutor Nunes 1141 - Olaria, Rio de Ja
	neiro, Rio de Janeiro 21021-370</p><p>Encontro mensal de carros e motos</p
	><p>2 Bandas ao vivo</p><p><a target="_blank" href="https://www.sympla.com
	.br/evento/motocando-rock-abril/3374738?algoliaID=106df36988a0918c1e3080b4
	fbb7680d&amp;share_id=copiarlink">https://www.sympla.com.br/evento/motocan
	do-rock-abril/3374738?algoliaID=106df36988a0918c1e3080b4fbb7680d</a></p>
BEGIN:VALARM
ACTION:DISPLAY
DESCRIPTION:Motocando Rock
TRIGGER:-PT1H
END:VALARM
END:VEVENT
END:VCALENDAR
