BEGIN:VCALENDAR
VERSION:2.0
CALSCALE:GREGORIAN
PRODID:adamgibbons/ics
METHOD:PUBLISH
X-PUBLISHED-TTL:PT1H
BEGIN:VEVENT
UID:273@durockrj.com.br
SUMMARY:Os Quem | Tributo ao The Who
DTSTAMP:20260421T080212Z
DTSTART:20260626T010000Z
DTEND:20260626T040000Z
DESCRIPTION:A banda Os Quem celebra um marco importante em sua trajetória a
	o subir\, pela\nprimeira vez\, ao prestigiado palco do Blue Note Rio. Form
	ado por músicos devotos\nà sonoridade crua e visceral do quarteto britânic
	o\, o grupo construiu sua\nreputação nos palcos cariocas entregando perfor
	mances que capturam a essência\nexplosiva de Roger Daltrey\, Pete Townshen
	d\, John Entwistle e Keith Moon. Com um\nrepertório que atravessa décadas 
	— desde o vigor mod de My Generation até a\ncomplexidade das óperas rock T
	ommy e Quadrophenia — a banda deixou de ser apenas\num projeto tributo par
	a se tornar uma referência nacional em fidelidade técnica\ne paixão cênica
	.\n\nA estreia no Blue Note não é apenas mais uma data na agenda\, mas o\n
	reconhecimento definitivo de anos de dedicação à obra do The Who. Para um 
	grupo\nque sempre prezou pela excelência sonora e pelo respeito ao legado 
	original\,\nocupar uma das casas de jazz e música de vanguarda mais icônic
	as do mundo\nsimboliza a maturação de sua própria história. Este show repr
	esenta a ponte\nentre o underground e o prestígio\, chancelando Os Quem co
	mo verdadeiros\nembaixadores do rock britânico em solo carioca e oferecend
	o ao público a\noportunidade de testemunhar um tributo que\, enfim\, encon
	tra um cenário à altura\nde sua magnitude.\n\nServiço\n\n• Local: Blue Not
	e Rio (Av. Atlântica\, 1910 - Copacabana)\n\n• Data: 25 de junho\n\n• Horá
	rio: 22:30\n\n• Ingressos:\nhttps://www.eventim.com.br/artist/blue-note-ri
	o/os-quem-tributo-the-who-4131689/\n[https://www.eventim.com.br/artist/blu
	e-note-rio/os-quem-tributo-the-who-4131689/]
URL:https://durockrj.com.br/event/os-quem-or-tributo-ao-the-who
GEO:-22.9683707;-43.1806576
LOCATION:Blue Note Rio - Av. Atlântica\, 1910 - Copacabana\, Rio de Janeiro
	 - RJ
STATUS:CONFIRMED
CATEGORIES:zona sul,mrtrip
X-ALT-DESC;FMTTYPE=text/html:<p>A banda <strong>Os Quem</strong> celebra um
	 marco importante em sua trajetória ao subir, pela primeira vez, ao presti
	giado palco do <strong>Blue Note Rio</strong>. Formado por músicos devotos
	 à sonoridade crua e visceral do quarteto britânico, o grupo construiu sua
	 reputação nos palcos cariocas entregando performances que capturam a essê
	ncia explosiva de Roger Daltrey, Pete Townshend, John Entwistle e Keith Mo
	on. Com um repertório que atravessa décadas — desde o vigor mod de My Gene
	ration até a complexidade das óperas rock Tommy e Quadrophenia — a banda d
	eixou de ser apenas um projeto tributo para se tornar uma referência nacio
	nal em fidelidade técnica e paixão cênica.</p><p>A estreia no Blue Note nã
	o é apenas mais uma data na agenda, mas o reconhecimento definitivo de ano
	s de dedicação à obra do The Who. Para um grupo que sempre prezou pela exc
	elência sonora e pelo respeito ao legado original, ocupar uma das casas de
	 jazz e música de vanguarda mais icônicas do mundo simboliza a maturação d
	e sua própria história. Este show representa a ponte entre o underground e
	 o prestígio, chancelando <strong>Os Quem</strong> como verdadeiros embaix
	adores do rock britânico em solo carioca e oferecendo ao público a oportun
	idade de testemunhar um tributo que, enfim, encontra um cenário à altura d
	e sua magnitude.</p><p><strong>Serviço</strong></p><p>• <strong>Local:</st
	rong> Blue Note Rio (Av. Atlântica, 1910 - Copacabana)</p><p>• <strong>Dat
	a:</strong> 25 de junho</p><p>• <strong>Horário:</strong> 22:30</p><p>• <s
	trong>Ingressos:</strong> <a target="_blank" href="https://www.eventim.com
	.br/artist/blue-note-rio/os-quem-tributo-the-who-4131689/">https://www.eve
	ntim.com.br/artist/blue-note-rio/os-quem-tributo-the-who-4131689/</a></p>
BEGIN:VALARM
ACTION:DISPLAY
DESCRIPTION:Os Quem | Tributo ao The Who
TRIGGER:-PT1H
END:VALARM
END:VEVENT
END:VCALENDAR
