BEGIN:VCALENDAR
VERSION:2.0
CALSCALE:GREGORIAN
PRODID:adamgibbons/ics
METHOD:PUBLISH
X-PUBLISHED-TTL:PT1H
BEGIN:VEVENT
UID:272@durockrj.com.br
SUMMARY:Paranoid Android + Inflamável - Placebo + Madonna
DTSTAMP:20260421T033521Z
DTSTART:20260509T010000Z
DESCRIPTION:DUAS festas\n\n\n\nPARANOID ANDROID -  Especial Placebo 30 Anos
	\n\nINFLAMÁVEL - Especial Madonna - Confessions on Fire!\n\n\n\nSexta - 08
	 de Maio será a data onde a PARANOID ANDROID e a inflamável estarão\njunta
	s pela PRIMEIRA VEZ numa única pista e revezando todo o Rock Alternativo d
	a\nParanoid com as loucuras Indie e POPs da Inflamável. Num set de deixar 
	qualquer\nrandom feito pela IA do Stopify de queixo caído. \n\n\n> DOSE DU
	PLA DE GIN TÔNICA (até 00h)!\n\n> INGRESSO COM CAIPIRINHA (LIMITADOS)\n\n\
	n\nSE LIGUEM NOS ANTECIPADOS (quantidade LIMITADA):\n\nIngresso Duplo - R$
	 35\n\n\nUnitário - R$ 20 (Primeiro Lote)\n\nUnitário + Caipirinha - R$ 26
	 (Primeiro Lote)\n\n\n\nLOTE FINAL:\n\nUnitário - R$ 25 (Segundo Lote)\n\n
	Unitário + Caipirinha - R$ 30 (Segundo Lote)\n\n\n\nNA HORA:\n\nR$ 40 até 
	00:30h\n\nR$ 50 após 00:30h\n\n→ TAURINOS NÃO PAGAM COMEMORE SEU ANIVERSÁR
	IO\n\nANIVERSARIANTES - TAURINOS NÃO PAGAM  ENTRE OS DIAS 21.ABRIL E 20/MA
	IO: \n\n\n\n\nGaranta o seu VIP confirmando a lista de convidados através 
	do e-mail:\n\nfalecomafesta@gmail.com [falecomafesta@gmail.com]\n\n\n\n\nO
	u enviando DM para @festaparanoidandroid ou @djbuba\n\n\n\n\nO aniversaria
	nte é VIP\n\nOs amigos do aniversariante pagam o preço de desconto a noite
	 toda. (R$ 25)\n\nAniversariantes com 10 convidados ou mais ganham 1 Garra
	fa de espumante ou um\nbalde de Heineken!\n\nCom os DJs:\n\nBUBA @djbuba\n
	\nBETO ARTISTA @betoartista\n\n\n\n\nPISTA 2 - SINUCA | PING PONG | ARCADE
	 | TOTÓ / (Liberados)\n\n\n\n\n−−−−−−−−−−−−−−−−−−−−−−−−−−−−−\n\n\n\n\n- So
	mente para maiores de 18 Anos\n\n- Aceitamos cartões na entrada e consumaç
	ão no bar.\n\nhttps://www.sympla.com.br/evento/paranoid-android-inflamavel
	-placebo-madonna/3392269?algoliaID=35a36495f43b01f67f61bf271493d475\n[http
	s://www.sympla.com.br/evento/paranoid-android-inflamavel-placebo-madonna/3
	392269?algoliaID=35a36495f43b01f67f61bf271493d475&share_id=copiarlink]
URL:https://durockrj.com.br/event/paranoid-android-inflamavel-placebo-madon
	na
GEO:-22.9549614;-43.1914982
LOCATION:Fonte - R. Henrique de Novais\, 107 - Botafogo\, Rio de Janeiro - 
	RJ
STATUS:CONFIRMED
CATEGORIES:zona sul,botafogo
X-ALT-DESC;FMTTYPE=text/html:<p><strong>DUAS</strong> festas</p><p></p><p><
	strong>PARANOID ANDROID -</strong>&nbsp; Especial Placebo 30 Anos</p><p><s
	trong>INFLAMÁVEL&nbsp;</strong>- Especial Madonna - Confessions on Fire!</
	p><p></p><p><strong>Sexta - 08 de Maio será a data onde a PARANOID ANDROID
	 e a inflamável estarão juntas pela PRIMEIRA VEZ numa única pista e reveza
	ndo todo o Rock Alternativo da Paranoid com as loucuras Indie e POPs da In
	flamável. Num set de deixar qualquer random feito pela IA do Stopify de qu
	eixo caído.&nbsp;</strong></p><p><u><br>&gt; DOSE DUPLA DE GIN TÔNICA (até
	 00h)!</u></p><p><u>&gt; INGRESSO COM CAIPIRINHA (LIMITADOS)</u></p><p></p
	><p>SE LIGUEM NOS ANTECIPADOS (quantidade LIMITADA):</p><p>Ingresso Duplo 
	- R$ 35<br></p><p>Unitário - R$ 20 (Primeiro Lote)</p><p>Unitário + Caipir
	inha - R$ 26 (Primeiro Lote)</p><p></p><p>LOTE FINAL:</p><p>Unitário - R$ 
	25 (Segundo Lote)</p><p>Unitário + Caipirinha - R$ 30 (Segundo Lote)</p><p
	></p><p>NA HORA:</p><p>R$ 40 até 00:30h</p><p>R$ 50 após 00:30h</p><p><str
	ong>→ TAURINOS NÃO PAGAM COMEMORE SEU ANIVERSÁRIO</strong></p><p>ANIVERSAR
	IANTES - TAURINOS NÃO PAGAM&nbsp; ENTRE OS DIAS 21.ABRIL E 20/MAIO:&nbsp;<
	/p><p><br></p><p>Garanta o seu VIP confirmando a lista de convidados atrav
	és do e-mail:</p><p><a target="_blank" href="mailto:falecomafesta@gmail.co
	m">falecomafesta@gmail.com</a></p><p><br></p><p>Ou enviando DM para @festa
	paranoidandroid ou @djbuba</p><p><br></p><p>O aniversariante é VIP</p><p>O
	s amigos do aniversariante pagam o preço de desconto a noite toda. (R$ 25)
	</p><p>Aniversariantes com 10 convidados ou mais ganham 1 Garrafa de espum
	ante ou um balde de Heineken!</p><p>Com os DJs:</p><p>BUBA @djbuba</p><p>B
	ETO ARTISTA @betoartista</p><p><br></p><p><u>PISTA 2 - SINUCA | PING PONG 
	| ARCADE | TOTÓ / (Liberados)</u></p><p><br></p><p>−−−−−−−−−−−−−−−−−−−−−−−
	−−−−−−</p><p><br></p><p>- Somente para maiores de 18 Anos</p><p>- Aceitamo
	s cartões na entrada e consumação no bar.</p><p><a target="_blank" href="h
	ttps://www.sympla.com.br/evento/paranoid-android-inflamavel-placebo-madonn
	a/3392269?algoliaID=35a36495f43b01f67f61bf271493d475&amp;share_id=copiarli
	nk">https://www.sympla.com.br/evento/paranoid-android-inflamavel-placebo-m
	adonna/3392269?algoliaID=35a36495f43b01f67f61bf271493d475</a></p>
BEGIN:VALARM
ACTION:DISPLAY
DESCRIPTION:Paranoid Android + Inflamável - Placebo + Madonna
TRIGGER:-PT1H
END:VALARM
END:VEVENT
END:VCALENDAR
