BEGIN:VCALENDAR
VERSION:2.0
CALSCALE:GREGORIAN
PRODID:adamgibbons/ics
METHOD:PUBLISH
X-PUBLISHED-TTL:PT1H
BEGIN:VEVENT
UID:245@durockrj.com.br
SUMMARY:Phane: Hardcore Punk Direto do Canadá
DTSTAMP:20260419T153123Z
DTSTART:20260509T000000Z
DESCRIPTION:*Parceria de peso entre Bucho Discos\, Pig Productions e Centra
	l Underground*\n\nPHANE (@phanepunks [https://www.instagram.com/phanepunks
	/]) no Hell de Janeiro\n🔥\n\nDiretamente de Vancouver\, a banda canadense 
	chega com sua energia explosiva e\nshow insano. Com influências do UK82 e 
	do hardcore dos anos 80\, o PHANE\nconquistou espaço no underground com os
	 lançamentos Phane\, Maniac e o EP Police\nSystem.\nO grupo já passou por 
	palcos da América do Norte\, Europa\, Rússia\, México e\nInglaterra e agor
	a pela 1ª vez no Brasil.\n\nPra completar esse rolezaço\, ainda rolam os s
	hows das bandas:\n\n• MUNDO NO KAOS (@mundo_no_kaos [https://www.instagram
	.com/mundo_no_kaos/])\n• FARDO (@fardo.hc [https://www.instagram.com/fardo
	.hc/])\n• ⁠GAÄRA (@gaara_dbeat [https://www.instagram.com/gaara_dbeat/])\n
	\n📅 8 de maio\n⏰ A partir das 21h\n📍 Garage Grindhouse\n🎟️ Antecipado: R$25
	 (via Pix: buchodiscos@jim.com)\n🎟️ Na porta: R$30\n\nMais um Flyer foda do
	 @osolhosmortos [https://www.instagram.com/osolhosmortos/]
URL:https://durockrj.com.br/event/phane-hardcore-punk-direto-do-canada
GEO:-22.909276;-43.2166421
LOCATION:Garage Grindhouse - R. Ceará\, 154 - Praça da Bandeira\, Rio de Ja
	neiro - RJ
STATUS:CONFIRMED
CATEGORIES:zona norte,praça da bandeira
X-ALT-DESC;FMTTYPE=text/html:<p>*Parceria de peso entre Bucho Discos, Pig P
	roductions e Central Underground*<br><br>PHANE (<a target="_blank" href="h
	ttps://www.instagram.com/phanepunks/">@phanepunks</a>) no Hell de Janeiro 
	🔥<br><br>Diretamente de Vancouver, a banda canadense chega com sua energia
	 explosiva e show insano. Com influências do UK82 e do hardcore dos anos 8
	0, o PHANE conquistou espaço no underground com os lançamentos Phane, Mani
	ac e o EP Police System.<br>O grupo já passou por palcos da América do Nor
	te, Europa, Rússia, México e Inglaterra e agora pela 1ª vez no Brasil.<br>
	<br>Pra completar esse rolezaço, ainda rolam os shows das bandas:<br><br>•
	 MUNDO NO KAOS (<a target="_blank" href="https://www.instagram.com/mundo_n
	o_kaos/">@mundo_no_kaos</a>)<br>• FARDO (<a target="_blank" href="https://
	www.instagram.com/fardo.hc/">@fardo.hc</a>)<br>• ⁠GAÄRA (<a target="_blank
	" href="https://www.instagram.com/gaara_dbeat/">@gaara_dbeat</a>)<br><br>📅
	 8 de maio<br>⏰ A partir das 21h<br>📍 Garage Grindhouse<br>🎟️ Antecipado: R
	$25 (via Pix: buchodiscos@jim.com)<br>🎟️ Na porta: R$30<br><br>Mais um Flye
	r foda do <a target="_blank" href="https://www.instagram.com/osolhosmortos
	/">@osolhosmortos</a></p>
BEGIN:VALARM
ACTION:DISPLAY
DESCRIPTION:Phane: Hardcore Punk Direto do Canadá
TRIGGER:-PT1H
END:VALARM
END:VEVENT
END:VCALENDAR
