BEGIN:VCALENDAR
VERSION:2.0
CALSCALE:GREGORIAN
PRODID:adamgibbons/ics
METHOD:PUBLISH
X-PUBLISHED-TTL:PT1H
BEGIN:VEVENT
UID:275@durockrj.com.br
SUMMARY:Rato no Rio apresenta: A Festa do Porco
DTSTAMP:20260421T181300Z
DTSTART:20260517T173000Z
DESCRIPTION:🐀🔥 VEM AÍ MAIS UMA EDIÇÃO DE RATO NO RIO! 🔥🐀\n\nJá salva a data
	 porque essa vai ser pesada!\n\n📅 17 de maio de 2026\n📍 Areninha Cultural 
	Hermeto Pascoal\n⏰ Abertura dos portões: 14h30\n🔞 Classificação: 14 anos\n
	\n🎸 RATO NO RIO apresenta: A FESTA DO PORCO\nO melhor da cena underground 
	reunido em um só lugar:\n\n⚡ Cara de Porco (RJ)\n⚡ Subalternos (SP)\n⚡ Imu
	ndus (RJ)\n⚡ D.O.P.S (MG)\n⚡ Voiced (SP)\n⚡ Hydrah (RJ)\n⚡ Moto (RJ)\n\n🎟️ 
	Garanta seu ingresso antecipado!\n💰 R$ 10\,00 (promocional antecipado)\n💰 
	R$ 20\,00 (Meia Entrada - PROMOÇÃO CARIOCA PAGA MEIA - Resolução 309/2015 
	da\nSMC-RIO))\n\n📌 Ingressos disponíveis:\n• Na bilheteria da Areninha (te
	rça a sexta\, 10h às 19h | sábado\, 10h às 14h)\n• Pelo Sympla (link na bi
	o)\n\n💥 Não fica de fora dessa!\n\nhttps://bileto.sympla.com.br/event/1195
	89/d/380301/s/2528845\n[https://bileto.sympla.com.br/event/119589/d/380301
	/s/2528845]
URL:https://durockrj.com.br/event/rato-no-rio-apresenta-a-festa-do-porco
GEO:-22.8774108;-43.4726858
LOCATION:Areninha Cultural Hermeto Pascoal - Praça Primeiro de Maio\, s/n -
	 Bangu\, Rio de Janeiro - RJ
STATUS:CONFIRMED
CATEGORIES:zona oeste,bangu
X-ALT-DESC;FMTTYPE=text/html:<p>🐀🔥 VEM AÍ MAIS UMA EDIÇÃO DE RATO NO RIO! 🔥
	🐀<br><br>Já salva a data porque essa vai ser pesada!<br><br>📅 17 de maio d
	e 2026<br>📍 Areninha Cultural Hermeto Pascoal<br>⏰ Abertura dos portões: 1
	4h30<br>🔞 Classificação: 14 anos<br><br>🎸 RATO NO RIO apresenta: A FESTA D
	O PORCO<br>O melhor da cena underground reunido em um só lugar:<br><br>⚡ C
	ara de Porco (RJ)<br>⚡ Subalternos (SP)<br>⚡ Imundus (RJ)<br>⚡ D.O.P.S (MG
	)<br>⚡ Voiced (SP)<br>⚡ Hydrah (RJ)<br>⚡ Moto (RJ)<br><br>🎟️ Garanta seu in
	gresso antecipado!<br>💰 R$ 10,00 (promocional antecipado)<br>💰 R$ 20,00 (M
	eia Entrada - PROMOÇÃO CARIOCA PAGA MEIA - Resolução 309/2015 da SMC-RIO))
	<br><br>📌 Ingressos disponíveis:<br>• Na bilheteria da Areninha (terça a s
	exta, 10h às 19h | sábado, 10h às 14h)<br>• Pelo Sympla (link na bio)<br><
	br>💥 Não fica de fora dessa!</p><p><a target="_blank" href="https://bileto
	.sympla.com.br/event/119589/d/380301/s/2528845">https://bileto.sympla.com.
	br/event/119589/d/380301/s/2528845</a></p>
BEGIN:VALARM
ACTION:DISPLAY
DESCRIPTION:Rato no Rio apresenta: A Festa do Porco
TRIGGER:-PT1H
END:VALARM
END:VEVENT
END:VCALENDAR
