BEGIN:VCALENDAR
VERSION:2.0
CALSCALE:GREGORIAN
PRODID:adamgibbons/ics
METHOD:PUBLISH
X-PUBLISHED-TTL:PT1H
BEGIN:VEVENT
UID:270@durockrj.com.br
SUMMARY:Rock Legends - Aero no Bar do Chico
DTSTAMP:20260421T034241Z
DTSTART:20260503T000000Z
DESCRIPTION:ALÔ BANGU!\n\n\n\n\nA Aero está de volta pra fazer o Rock Legen
	ds tremer de novo no bar do Chico.\n\nPrepare-se para viver uma noite insa
	na do rock em Bangu!\n\nNo dia 02 de Maio\, o Bar do Chico será palco de u
	m show eletrizante com a banda\nAero\, trazendo os maiores hinos que marca
	ram gerações do rock nacional ao\ninternacional\, te fazendo viajar no tem
	po!\n\nDe Charlie Brown Jr. a Linkin Park\, de Legião Urbana a Metallica\,
	 você vai\ncantar a plenos pulmões\, pular\, gritar e sentir a energia pul
	sando em cada\nmúsica!\n\nLocal: Bar do Chico – Rua Santa Cecília\, 226 – 
	Bangu\n\nData: 02 de Maio (sábado)\n\nHorário: A partir das 21h\n\nIngress
	os à venda aqui no Sympla – garanta o seu antes que esgotem!\n\nNo setlist
	 da Aero:\n\nAudioslave\, Bon Jovi\, Charlie Brown Jr.\, CPM 22\, Creed\, 
	Capital Inicial\, Oasis\,\nMetallica\, Guns N’ Roses\, AC/DC\, Legião Urba
	na\, Cazuza\, Linkin Park\, Alice in\nChains\, Nirvana\, Pearl Jam\, Foo F
	ighters\, System of a Down\, Rage Against the\nMachine e muito mais!\n\nVe
	m viver o melhor do rock com a energia que só um show ao vivo pode oferece
	r.\nEssa vai ser daquelas noites que ficam na memória. Te esperamos lá!\n\
	nhttps://www.sympla.com.br/evento/rock-legends-aero-no-bar-do-chico/338273
	6?algoliaID=04afab5a4b6355884c999c51a577649e\n[https://www.sympla.com.br/e
	vento/rock-legends-aero-no-bar-do-chico/3382736?algoliaID=04afab5a4b635588
	4c999c51a577649e&share_id=copiarlink]
URL:https://durockrj.com.br/event/rock-legends-aero-no-bar-do-chico
GEO:-22.8809347;-43.4582019
LOCATION:Bar do Chico - R. Santa Cecília\, 226 - Bangu\, Rio de Janeiro
STATUS:CONFIRMED
CATEGORIES:zona oeste,bangu
X-ALT-DESC;FMTTYPE=text/html:<p>ALÔ BANGU!</p><p><br></p><p>A Aero está de 
	volta pra fazer o Rock Legends tremer de novo no bar do Chico.</p><p>Prepa
	re-se para viver uma noite insana do rock em Bangu!</p><p>No dia 02 de Mai
	o, o Bar do Chico será palco de um show eletrizante com a banda Aero, traz
	endo os maiores hinos que marcaram gerações do rock nacional ao internacio
	nal, te fazendo viajar no tempo!</p><p>De Charlie Brown Jr. a Linkin Park,
	 de Legião Urbana a Metallica, você vai cantar a plenos pulmões, pular, gr
	itar e sentir a energia pulsando em cada música!</p><p>Local: Bar do Chico
	 – Rua Santa Cecília, 226 – Bangu</p><p>Data: 02 de Maio (sábado)</p><p>Ho
	rário: A partir das 21h</p><p>Ingressos à venda aqui no Sympla – garanta o
	 seu antes que esgotem!</p><p>No setlist da Aero:</p><p>Audioslave, Bon Jo
	vi, Charlie Brown Jr., CPM 22, Creed, Capital Inicial, Oasis, Metallica, G
	uns N’ Roses, AC/DC, Legião Urbana, Cazuza, Linkin Park, Alice in Chains, 
	Nirvana, Pearl Jam, Foo Fighters, System of a Down, Rage Against the Machi
	ne e muito mais!</p><p>Vem viver o melhor do rock com a energia que só um 
	show ao vivo pode oferecer. Essa vai ser daquelas noites que ficam na memó
	ria. Te esperamos lá!</p><p><a target="_blank" href="https://www.sympla.co
	m.br/evento/rock-legends-aero-no-bar-do-chico/3382736?algoliaID=04afab5a4b
	6355884c999c51a577649e&amp;share_id=copiarlink">https://www.sympla.com.br/
	evento/rock-legends-aero-no-bar-do-chico/3382736?algoliaID=04afab5a4b63558
	84c999c51a577649e</a></p>
BEGIN:VALARM
ACTION:DISPLAY
DESCRIPTION:Rock Legends - Aero no Bar do Chico
TRIGGER:-PT1H
END:VALARM
END:VEVENT
END:VCALENDAR
