BEGIN:VCALENDAR
VERSION:2.0
CALSCALE:GREGORIAN
PRODID:adamgibbons/ics
METHOD:PUBLISH
X-PUBLISHED-TTL:PT1H
BEGIN:VEVENT
UID:257@durockrj.com.br
SUMMARY:Rock New York | Banda Perdidos na Selva | DJ Maurício Santos
DTSTAMP:20260421T035413Z
DTSTART:20260424T230000Z
DESCRIPTION:ROCK NEW YORK 2026\n\nBANDA PERDIDOS NA SELVA\n\nDJ MAURÍCIO SA
	NTOS \n\n\n\n\nO melhor do rock nacional e internacional pista de dança \n
	\nBarra da Tijuca\, aos pés da Estatua da liberdade \n\nno Shopping New Yo
	rk City Center Multiplan \n\nanexo ao Barra Shopping no novo Colinda!\n\nV
	enha comemorar o seu aniversário\n\nÚLTIMAS RESERVAS:\n\n21 98391 1266\n\n
	BOTECO COLINDA\n\nAvenida das Americas 5.000\n\nBarra da Tijuca\n\n\n\nhtt
	ps://www.sympla.com.br/evento/rock-new-york-banda-perdidos-na-selva-dj-mau
	ricio-santos-colinda-shopping-new-york-barra/3373198?algoliaID=b4f86279576
	8e812b79b3f5a91e0f2cb\n[https://www.sympla.com.br/evento/rock-new-york-ban
	da-perdidos-na-selva-dj-mauricio-santos-colinda-shopping-new-york-barra/33
	73198?algoliaID=b4f862795768e812b79b3f5a91e0f2cb&share_id=copiarlink]
URL:https://durockrj.com.br/event/rock-new-york-or-banda-perdidos-na-selva-
	or-dj-mauricio-santos
GEO:-22.9988358;-43.3604664
LOCATION:New York City Center - Av. das Américas\, 5000 - Barra da Tijuca\,
	 Rio de Janeiro - RJ
STATUS:CONFIRMED
CATEGORIES:zona oeste,barra da tijuca
X-ALT-DESC;FMTTYPE=text/html:<p>ROCK NEW YORK 2026</p><p>BANDA PERDIDOS NA 
	SELVA</p><p>DJ MAURÍCIO SANTOS&nbsp;</p><p><br></p><p>O melhor do rock nac
	ional e internacional pista de dança&nbsp;</p><p>Barra da Tijuca, aos pés 
	da Estatua da liberdade&nbsp;</p><p>no Shopping New York City Center Multi
	plan&nbsp;</p><p>anexo ao Barra Shopping no novo Colinda!</p><p><em>Venha 
	comemorar o seu aniversário</em></p><p><em>ÚLTIMAS RESERVAS:</em></p><p><e
	m>21 98391 1266</em></p><p><em>BOTECO COLINDA</em></p><p><em>Avenida das A
	mericas 5.000</em></p><p><em>Barra da Tijuca</em></p><p></p><p><a target="
	_blank" href="https://www.sympla.com.br/evento/rock-new-york-banda-perdido
	s-na-selva-dj-mauricio-santos-colinda-shopping-new-york-barra/3373198?algo
	liaID=b4f862795768e812b79b3f5a91e0f2cb&amp;share_id=copiarlink">https://ww
	w.sympla.com.br/evento/rock-new-york-banda-perdidos-na-selva-dj-mauricio-s
	antos-colinda-shopping-new-york-barra/3373198?algoliaID=b4f862795768e812b7
	9b3f5a91e0f2cb</a></p>
BEGIN:VALARM
ACTION:DISPLAY
DESCRIPTION:Rock New York | Banda Perdidos na Selva | DJ Maurício Santos
TRIGGER:-PT1H
END:VALARM
END:VEVENT
END:VCALENDAR
