BEGIN:VCALENDAR
VERSION:2.0
CALSCALE:GREGORIAN
PRODID:adamgibbons/ics
METHOD:PUBLISH
X-PUBLISHED-TTL:PT1H
BEGIN:VEVENT
UID:256@durockrj.com.br
SUMMARY:Skydog Jam | Tributo a Allman Brothers
DTSTAMP:20260421T034426Z
DTSTART:20260619T013000Z
DTEND:20260619T033000Z
DESCRIPTION:🎸 Skydog Jam: Uma Celebração ao Legado Allman na Casa Mais Sofi
	sticada do Jazz\ne Blues\n\nO Rio de Janeiro se prepara para receber uma e
	xperiência musical sem\nprecedentes. A Skydog Jam\, reconhecida pela sua d
	edicação em preservar a\nessência da The Allman Brothers Band\, faz sua ag
	uardada estreia na capital\ncarioca. O palco escolhido é o Blue Note Rio\,
	 a prestigiada filial brasileira de\numa das marcas de Jazz e Blues mais c
	onceituadas e respeitadas do mundo. ✨ \n\n✨ A Reverência a Gregg e Duane A
	llman\n\nFormada por músicos experientes da cena de São Paulo\, a Skydog J
	am mergulha na\nalma do Southern Rock\, honrando com fidelidade absoluta a
	 musicalidade e o\nespírito inovador deixado pelos irmãos Gregg e Duane Al
	lman. O projeto nasceu da\npaixão de seis amigos pelo estilo da ABB\, traz
	endo de volta a sofisticação do\nRock e Blues que marcaram as décadas de 6
	0 e 70. 🎶🔥 \n\n🥁 A Potência da Formação Original\n\nPara recriar a atmosfe
	ra hipnotizante dos grandes concertos\, a banda\napresenta-se na formação 
	instrumental clássica da The Allman Brothers Band. O\ngrande diferencial é
	 a presença de duas baterias no palco\, somada às guitarras\nharmonizadas\
	, garantindo uma imersão total em clássicos como "Midnight Rider"\,\n"Jess
	ica" e "In Memory of Elizabeth Reed". \n\n📍 Serviço\n\n• Evento: Skydog Ja
	m – Tributo à The Allman Brothers Band \n\n• Local: Blue Note Rio – Av. At
	lântica\, 1910 - Copacabana\n\n• Data: 18 de junho (18/06)\n\n• Horário: 2
	2:30\n\n• Acompanhe a banda: @skydogjam \n\n• Ingressos:\nhttps://www.even
	tim.com.br/artist/blue-note-rio/skydog-jam-tributo-the-allman-brothers-414
	1502/\n[https://www.eventim.com.br/artist/blue-note-rio/skydog-jam-tributo
	-the-allman-brothers-4141502/]\n\nVenha testemunhar o encontro entre a tra
	dição do rock sulista e a elegância de\numa das curadorias mais famosas do
	 planeta em uma noite inesquecível. 🥂🎸
URL:https://durockrj.com.br/event/skydog-jam-or-tributo-a-allman-brothers
GEO:-22.9683707;-43.1806576
LOCATION:Blue Note Rio - Av. Atlântica\, 1910 - Copacabana\, Rio de Janeiro
	 - RJ
STATUS:CONFIRMED
CATEGORIES:zona sul,mrtrip
X-ALT-DESC;FMTTYPE=text/html:<p>🎸 <strong>Skydog Jam: Uma Celebração ao Leg
	ado Allman na Casa Mais Sofisticada do Jazz e Blues</strong></p><p>O Rio d
	e Janeiro se prepara para receber uma experiência musical sem precedentes.
	 A <strong>Skydog Jam</strong>, reconhecida pela sua dedicação em preserva
	r a essência da <strong>The Allman Brothers Band</strong>, faz sua aguarda
	da estreia na capital carioca. O palco escolhido é o Blue Note Rio, a pres
	tigiada filial brasileira de uma das marcas de Jazz e Blues mais conceitua
	das e respeitadas do mundo. ✨&nbsp; </p><p>✨ A Reverência a Gregg e Duane 
	Allman</p><p>Formada por músicos experientes da cena de São Paulo, a Skydo
	g Jam mergulha na alma do Southern Rock, honrando com fidelidade absoluta 
	a musicalidade e o espírito inovador deixado pelos irmãos Gregg e Duane Al
	lman. O projeto nasceu da paixão de seis amigos pelo estilo da ABB, trazen
	do de volta a sofisticação do Rock e Blues que marcaram as décadas de 60 e
	 70. 🎶🔥&nbsp; </p><p>🥁 A Potência da Formação Original</p><p>Para recriar 
	a atmosfera hipnotizante dos grandes concertos, a banda apresenta-se na fo
	rmação instrumental clássica da The Allman Brothers Band. O grande diferen
	cial é a presença de duas baterias no palco, somada às guitarras harmoniza
	das, garantindo uma imersão total em clássicos como "Midnight Rider", "Jes
	sica" e "In Memory of Elizabeth Reed".&nbsp; </p><p>📍 Serviço</p><p>• Even
	to: Skydog Jam – Tributo à The Allman Brothers Band&nbsp; </p><p>• Local: 
	Blue Note Rio – Av. Atlântica, 1910 - Copacabana</p><p>• Data: 18 de junho
	 (18/06)</p><p>• Horário: 22:30</p><p>• Acompanhe a banda: @skydogjam&nbsp
	; </p><p>• Ingressos: <a target="_blank" href="https://www.eventim.com.br/
	artist/blue-note-rio/skydog-jam-tributo-the-allman-brothers-4141502/">http
	s://www.eventim.com.br/artist/blue-note-rio/skydog-jam-tributo-the-allman-
	brothers-4141502/</a></p><p>Venha testemunhar o encontro entre a tradição 
	do rock sulista e a elegância de uma das curadorias mais famosas do planet
	a em uma noite inesquecível. 🥂🎸</p>
BEGIN:VALARM
ACTION:DISPLAY
DESCRIPTION:Skydog Jam | Tributo a Allman Brothers
TRIGGER:-PT1H
END:VALARM
END:VEVENT
END:VCALENDAR
