BEGIN:VCALENDAR
VERSION:2.0
CALSCALE:GREGORIAN
PRODID:adamgibbons/ics
METHOD:PUBLISH
X-PUBLISHED-TTL:PT1H
BEGIN:VEVENT
UID:261@durockrj.com.br
SUMMARY:TBT Kalesa Rock Festival | Banda Fisheye | BANDA Soudahua | Retrohi
	ts | DJ Anderson Grandinho
DTSTAMP:20260421T034619Z
DTSTART:20260425T230000Z
DESCRIPTION:SÁBADO 25 ABRIL 20H\n\nTBT ROCK BAR Apresenta:\n\nKALESA ROCK F
	ESTIVAL\n\nNOSTALGIA ANOS 90/2000\n\nCENTRO DO RIO\n\nVamos voltar no temp
	o\, com um grande festival musical\, no Centro do Rio de\nJaneiro\, com su
	per shows de bandas da época & Djs\, em uma casa histórica na\nSacadura Ca
	bral em frente ao Museu do Amanhã\n\nATRAÇÕES | SHOWS\n\nBANDA FISHEYE TRI
	BUTO POP PUNK\n\n*BANDA SOUDAHUA!\n\nESPECIAL O RAPPA\, NATIRUTS & CIDADE 
	NEGRA*\n\nRETROHITS\n\nFUNK RETRÔ\, BOYS BANDS\, DANCE MUSIC & HIP HOP\n\n
	DJ ANDERSON GRANDINHO\n\nNOS INTERVALOS\n\n——\n\nANIVERSÁRIOS & INFORMAÇÕE
	S \n\nWHATSAPP: 21 9 7190-6923
URL:https://durockrj.com.br/event/tbt-kalesa-rock-festival-or-banda-fisheye
	-or-banda-soudahua-or-retrohits-or-dj-anderson-grandinho
GEO:-22.897703;-43.1826532
LOCATION:Kalesa Club - R. Sacadura Cabral\, 59 - Saúde\, Rio de Janeiro - R
	J
STATUS:CONFIRMED
CATEGORIES:centro
X-ALT-DESC;FMTTYPE=text/html:<p><em>SÁBADO 25 ABRIL 20H</em></p><p><em>TBT 
	ROCK BAR Apresenta:</em></p><p><em>KALESA ROCK FESTIVAL</em></p><p><em>NOS
	TALGIA ANOS 90/2000</em></p><p><em>CENTRO DO RIO</em></p><p><em>Vamos volt
	ar no tempo,&nbsp;com um grande festival musical, no Centro do Rio de Jane
	iro, com super shows de bandas da época &amp; Djs, em uma casa histórica n
	a Sacadura Cabral em frente ao Museu do Amanhã</em></p><p><em>ATRAÇÕES | S
	HOWS</em></p><p><em>BANDA FISHEYE&nbsp;TRIBUTO POP PUNK</em></p><p>*BANDA 
	SOUDAHUA!</p><p>ESPECIAL O RAPPA, NATIRUTS &amp; CIDADE NEGRA*</p><p><em>R
	ETROHITS</em></p><p>FUNK RETRÔ, BOYS BANDS, DANCE MUSIC &amp; HIP HOP</p><
	p><em>DJ ANDERSON GRANDINHO</em></p><p>NOS INTERVALOS</p><p>——</p><p>ANIVE
	RSÁRIOS &amp; INFORMAÇÕES&nbsp;</p><p>WHATSAPP: 21 9 7190-6923</p>
BEGIN:VALARM
ACTION:DISPLAY
DESCRIPTION:TBT Kalesa Rock Festival | Banda Fisheye | BANDA Soudahua | Ret
	rohits | DJ Anderson Grandinho
TRIGGER:-PT1H
END:VALARM
END:VEVENT
END:VCALENDAR
