BEGIN:VCALENDAR
VERSION:2.0
CALSCALE:GREGORIAN
PRODID:adamgibbons/ics
METHOD:PUBLISH
X-PUBLISHED-TTL:PT1H
BEGIN:VEVENT
UID:279@durockrj.com.br
SUMMARY:Tribute by Snow - Tributo à Red Hot Chilli Peppers
DTSTAMP:20260421T210218Z
DTSTART:20260508T230000Z
DESCRIPTION:Pela primeira vez na Casinha a banda RED HOT CHILI PEPPERS TRIB
	UTE BY SNOW\,\n\nos caras estão prometendo quebrar tudo\, dia 08 de maio\,
	\n\ncom esse super tributo e agitando a pista a incrível DJ Karen Magliano
	!!!\n\nhttps://www.sympla.com.br/evento/tributo-a-red-hot-chili-peppers-tr
	ibute-by-snow/3386678\n[https://www.sympla.com.br/evento/tributo-a-red-hot
	-chili-peppers-tribute-by-snow/3386678]
URL:https://durockrj.com.br/event/tribute-by-snow-tributo-a-red-hot-chilli-
	peppers
GEO:-22.8154184;-43.4179688
LOCATION:O Clã Pub - R. Dr. Manoel Reis\, 656 - Centro\, Nilópolis - RJ
STATUS:CONFIRMED
CATEGORIES:baixada fluminense,nilopolis,tributo
X-ALT-DESC;FMTTYPE=text/html:<p>Pela primeira vez na Casinha a banda RED HO
	T CHILI PEPPERS TRIBUTE BY SNOW,</p><p>os caras estão prometendo quebrar t
	udo, dia 08 de maio,</p><p>com esse super tributo e agitando a pista a inc
	rível DJ Karen Magliano!!!</p><p><a target="_blank" href="https://www.symp
	la.com.br/evento/tributo-a-red-hot-chili-peppers-tribute-by-snow/3386678">
	https://www.sympla.com.br/evento/tributo-a-red-hot-chili-peppers-tribute-b
	y-snow/3386678</a></p>
BEGIN:VALARM
ACTION:DISPLAY
DESCRIPTION:Tribute by Snow - Tributo à Red Hot Chilli Peppers
TRIGGER:-PT1H
END:VALARM
END:VEVENT
END:VCALENDAR
