BEGIN:VCALENDAR
VERSION:2.0
CALSCALE:GREGORIAN
PRODID:adamgibbons/ics
METHOD:PUBLISH
X-PUBLISHED-TTL:PT1H
BEGIN:VEVENT
UID:286@durockrj.com.br
SUMMARY:Tru?st  e No USA - Limp Bizkit+SOAD Tributo
DTSTAMP:20260421T223217Z
DTSTART:20260425T010000Z
DESCRIPTION:🚨🔥 24 DE ABRIL | SEXTA — VAI SER BRUTAL! 🔥🚨\n\n\nDuas máquinas 
	no palco… um só objetivo: DESTRUIR O TRIBUS 💣\n\n\n\n💀 BIGNEW trazendo o p
	eso absurdo do Limp Bizkit\n⚡ NO U.S.A detonando com o caos do System Of A
	 Down\n\n\n\nÉ grito\, é mosh\, é energia no limite do começo ao fim.\nDaq
	ueles shows que você não assiste… você sobrevive.\n\n\n\n🚨 INGRESSOS JÁ LI
	BERADOS — e voando!\n⚠️ Virada de lote a qualquer momento\n⚠️ Sujeito à lota
	ção — quem já viveu sabe como fica…\n\n\n🎟️ Garanta o seu agora: articket.c
	om.br [http://articket.com.br]\n📍 Av. Nilo Peçanha\, 1521 – Rancho Novo – 
	Nova Iguaçu\n\n\nChega cedo… porque quando começar…\nnão tem volta. 🔥🤘\n\n
	\nhttps://articket.com.br/e/5977/limpbizkitsoad-tributo\n[https://articket
	.com.br/e/5977/limpbizkitsoad-tributo]
URL:https://durockrj.com.br/event/trust-e-no-usa-limp-bizkitsoad-tributo
GEO:-22.7494599;-43.440671
LOCATION:Tribus Pub - Av. Nilo Peçanha\, 1521 - Rancho Novo\, Nova Iguaçu -
	 RJ
STATUS:CONFIRMED
CATEGORIES:baixada fluminense,nova iguaçu
X-ALT-DESC;FMTTYPE=text/html:<p>🚨🔥 24 DE ABRIL | SEXTA — VAI SER BRUTAL! 🔥🚨
	</p><p><br>Duas máquinas no palco… um só objetivo: DESTRUIR O TRIBUS 💣</p>
	<p></p><p>💀 BIGNEW trazendo o peso absurdo do Limp Bizkit<br>⚡ NO U.S.A de
	tonando com o caos do System Of A Down</p><p></p><p>É grito, é mosh, é ene
	rgia no limite do começo ao fim.<br>Daqueles shows que você não assiste… v
	ocê sobrevive.</p><p></p><p>🚨 INGRESSOS JÁ LIBERADOS — e voando!<br>⚠️ Vira
	da de lote a qualquer momento<br>⚠️ Sujeito à lotação — quem já viveu sabe 
	como fica…<br></p><p>🎟️ Garanta o seu agora: <a target="_blank" href="http:
	//articket.com.br">articket.com.br</a><br>📍 Av. Nilo Peçanha, 1521 – Ranch
	o Novo – Nova Iguaçu<br></p><p>Chega cedo… porque quando começar…<br>não t
	em volta. 🔥🤘<br></p><p><a target="_blank" href="https://articket.com.br/e/
	5977/limpbizkitsoad-tributo">https://articket.com.br/e/5977/limpbizkitsoad
	-tributo</a></p>
BEGIN:VALARM
ACTION:DISPLAY
DESCRIPTION:Tru?st  e No USA - Limp Bizkit+SOAD Tributo
TRIGGER:-PT1H
END:VALARM
END:VEVENT
END:VCALENDAR
