BEGIN:VCALENDAR
VERSION:2.0
CALSCALE:GREGORIAN
PRODID:adamgibbons/ics
METHOD:PUBLISH
X-PUBLISHED-TTL:PT1H
BEGIN:VEVENT
UID:242@durockrj.com.br
SUMMARY:Whitesnake Rio | Coordenadas Bar
DTSTAMP:20260419T153322Z
DTSTART:20260530T060000Z
DESCRIPTION:Prepare-se para uma noite de imersão no legado de uma das maior
	es instituições do Hard Rock mundial. No dia 30 de maio\, o Coordenadas Ba
	r recebe um tributo de alto nível que celebra a era de ouro do Whitesnake\
	, com foco especial na sonoridade visceral e técnica da fase John Sykes. M
	ais do que reviver clássicos como "Slide It In" e "Still of the Night"\, o
	 show destaca o protagonismo feminino no rock: no comando da serpente\, a 
	vocalista Dani Postorivo entrega uma performance poderosa e empoderada\, p
	rovando que a agressividade e o carisma dos anos 80 ganham uma energia ren
	ovada e arrebatadora sob a liderança de uma mulher.\n\nPara garantir a fid
	elidade sonora que os fãs exigem\, o guitarrista Bruno Boaventura traz uma
	 dedicação minuciosa ao timbre e aos harmônicos icônicos de Sykes\, criand
	o o diálogo perfeito com a cozinha experiente de Rodrigo Carvalho\, Hend B
	orges e Arthur. Realizado pela Mr. Trip Produções\, o evento une o ambient
	e autêntico de Botafogo à sofisticação de um dos repertórios mais influent
	es da história da música. Garanta seu ingresso e venha testemunhar a força
	 de uma banda que honra o passado do Whitesnake com os olhos — e a atitude
	 — no presente\n\n\nSERVIÇO:\n\n * Data: 30/05 (Sábado)\n\n * Horário: 22h
	\n\n * Local: Coordenadas Bar – Rua da Passagem\, 19\, Botafogo\n\n * Real
	ização: Mr. Trip Produções\n\n * 🎫Ingressos:\n   https://meaple.com.br/coo
	rdenadasbar/whitesnake-rio-coordenadas-bar\n   [https://meaple.com.br/coor
	denadasbar/whitesnake-rio-coordenadas-bar]
URL:https://durockrj.com.br/event/whitesnake-rio-or-coordenadas-bar
GEO:-22.9512279;-43.1817393
LOCATION:Coordenadas Bar - Rua da Passagem\, 19 - Botafogo\, Rio de Janeiro
	 - RJ
STATUS:CONFIRMED
CATEGORIES:zona sul,botafogo,mrtrip
X-ALT-DESC;FMTTYPE=text/html:<p>Prepare-se&nbsp;para&nbsp;uma&nbsp;noite&nb
	sp;de&nbsp;imersão&nbsp;no&nbsp;legado&nbsp;de&nbsp;uma&nbsp;das&nbsp;maio
	res&nbsp;instituições&nbsp;do&nbsp;Hard&nbsp;Rock&nbsp;mundial.&nbsp;No&nb
	sp;dia&nbsp;<strong>30&nbsp;de&nbsp;maio</strong>,&nbsp;o&nbsp;<strong>Coo
	rdenadas&nbsp;Bar</strong>&nbsp;recebe&nbsp;um&nbsp;tributo&nbsp;de&nbsp;a
	lto&nbsp;nível&nbsp;que&nbsp;celebra&nbsp;a&nbsp;era&nbsp;de&nbsp;ouro&nbs
	p;do&nbsp;<strong>Whitesnake</strong>,&nbsp;com&nbsp;foco&nbsp;especial&nb
	sp;na&nbsp;sonoridade&nbsp;visceral&nbsp;e&nbsp;técnica&nbsp;da&nbsp;fase&
	nbsp;John&nbsp;Sykes.&nbsp;Mais&nbsp;do&nbsp;que&nbsp;reviver&nbsp;clássic
	os&nbsp;como&nbsp;"Slide&nbsp;It&nbsp;In"&nbsp;e&nbsp;"Still&nbsp;of&nbsp;
	the&nbsp;Night",&nbsp;o&nbsp;show&nbsp;destaca&nbsp;o&nbsp;protagonismo&nb
	sp;feminino&nbsp;no&nbsp;rock:&nbsp;no&nbsp;comando&nbsp;da&nbsp;serpente,
	&nbsp;a&nbsp;vocalista&nbsp;<strong>Dani&nbsp;Postorivo</strong>&nbsp;entr
	ega&nbsp;uma&nbsp;performance&nbsp;poderosa&nbsp;e&nbsp;empoderada,&nbsp;p
	rovando&nbsp;que&nbsp;a&nbsp;agressividade&nbsp;e&nbsp;o&nbsp;carisma&nbsp
	;dos&nbsp;anos&nbsp;80&nbsp;ganham&nbsp;uma&nbsp;energia&nbsp;renovada&nbs
	p;e&nbsp;arrebatadora&nbsp;sob&nbsp;a&nbsp;liderança&nbsp;de&nbsp;uma&nbsp
	;mulher.</p><p>​Para&nbsp;garantir&nbsp;a&nbsp;fidelidade&nbsp;sonora&nbsp
	;que&nbsp;os&nbsp;fãs&nbsp;exigem,&nbsp;o&nbsp;guitarrista&nbsp;<strong>Br
	uno&nbsp;Boaventura</strong>&nbsp;traz&nbsp;uma&nbsp;dedicação&nbsp;minuci
	osa&nbsp;ao&nbsp;timbre&nbsp;e&nbsp;aos&nbsp;harmônicos&nbsp;icônicos&nbsp
	;de&nbsp;Sykes,&nbsp;criando&nbsp;o&nbsp;diálogo&nbsp;perfeito&nbsp;com&nb
	sp;a&nbsp;cozinha&nbsp;experiente&nbsp;de&nbsp;Rodrigo&nbsp;Carvalho,&nbsp
	;Hend&nbsp;Borges&nbsp;e&nbsp;Arthur.&nbsp;Realizado&nbsp;pela&nbsp;<stron
	g>Mr.&nbsp;Trip&nbsp;Produções</strong>,&nbsp;o&nbsp;evento&nbsp;une&nbsp;
	o&nbsp;ambiente&nbsp;autêntico&nbsp;de&nbsp;Botafogo&nbsp;à&nbsp;sofistica
	ção&nbsp;de&nbsp;um&nbsp;dos&nbsp;repertórios&nbsp;mais&nbsp;influentes&nb
	sp;da&nbsp;história&nbsp;da&nbsp;música.&nbsp;Garanta&nbsp;seu&nbsp;ingres
	so&nbsp;e&nbsp;venha&nbsp;testemunhar&nbsp;a&nbsp;força&nbsp;de&nbsp;uma&n
	bsp;banda&nbsp;que&nbsp;honra&nbsp;o&nbsp;passado&nbsp;do&nbsp;Whitesnake&
	nbsp;com&nbsp;os&nbsp;olhos&nbsp;—&nbsp;e&nbsp;a&nbsp;atitude&nbsp;—&nbsp;
	no&nbsp;presente</p><h3>​<strong>Serviço:</strong></h3><ul><li><p>​<strong
	>Data:</strong>&nbsp;30/05&nbsp;(Sábado)</p></li><li><p>​<strong>Horário:<
	/strong>&nbsp;22h</p></li><li><p>​<strong>Local:</strong>&nbsp;Coordenadas
	&nbsp;Bar&nbsp;–&nbsp;Rua&nbsp;da&nbsp;Passagem,&nbsp;19,&nbsp;Botafogo</p
	></li><li><p>​<strong>Realização:</strong>&nbsp;Mr.&nbsp;Trip&nbsp;Produçõ
	es</p></li><li><p>🎫Ingressos: <a target="_blank" href="https://meaple.com.
	br/coordenadasbar/whitesnake-rio-coordenadas-bar">https://meaple.com.br/co
	ordenadasbar/whitesnake-rio-coordenadas-bar</a></p></li></ul>
BEGIN:VALARM
ACTION:DISPLAY
DESCRIPTION:Whitesnake Rio | Coordenadas Bar
TRIGGER:-PT1H
END:VALARM
END:VEVENT
END:VCALENDAR
