BEGIN:VCALENDAR
VERSION:2.0
CALSCALE:GREGORIAN
PRODID:adamgibbons/ics
METHOD:PUBLISH
X-PUBLISHED-TTL:PT1H
BEGIN:VEVENT
UID:254@durockrj.com.br
SUMMARY:Blitz no Rock N Radio
DTSTAMP:20260419T164600Z
DTSTART:20260606T230000Z
URL:https://durockrj.com.br/event/blitz-no-rock-n-radio
GEO:-22.9276056;-43.2342753
LOCATION:Tijuca Tênis Clube - Rua Conde de Bonfim\, 451 - Tijuca\, Rio de J
	aneiro - RJ
STATUS:CONFIRMED
CATEGORIES:zona norte,tijuca
END:VEVENT
END:VCALENDAR
