BEGIN:VCALENDAR
VERSION:2.0
CALSCALE:GREGORIAN
PRODID:adamgibbons/ics
METHOD:PUBLISH
X-PUBLISHED-TTL:PT1H
BEGIN:VEVENT
UID:274@durockrj.com.br
SUMMARY:9º Aniversário do Correntes de Sangue MC
DTSTAMP:20260421T200142Z
DTSTART:20260530T170000Z
URL:https://durockrj.com.br/event/9o-aniversario-do-correntes-de-sangue-mc
GEO:-22.8766101;-43.4498978
LOCATION:Sede Correntes de Sangue MC - Av. de Santa Cruz\, 2795 - Padre Mig
	uel\, Rio de Janeiro - RJ
STATUS:CONFIRMED
CATEGORIES:zona oeste,padre miguel
END:VEVENT
END:VCALENDAR
