BEGIN:VCALENDAR
VERSION:2.0
CALSCALE:GREGORIAN
PRODID:adamgibbons/ics
METHOD:PUBLISH
X-PUBLISHED-TTL:PT1H
BEGIN:VEVENT
UID:246@durockrj.com.br
SUMMARY:Banda RP - Panteras MG e Amortecedores MC
DTSTAMP:20260419T163935Z
DTSTART:20260424T230000Z
URL:https://durockrj.com.br/event/banda-rp-panteras-mg-e-amortecedores-mc
GEO:-22.8799314;-43.1036353
LOCATION:Depósito do Selso - Tv. Manoel Benício - Fonseca\, Niterói - RJ
STATUS:CONFIRMED
CATEGORIES:leste fluminense,motoclube,niteroi
END:VEVENT
END:VCALENDAR
