BEGIN:VCALENDAR
VERSION:2.0
CALSCALE:GREGORIAN
PRODID:adamgibbons/ics
METHOD:PUBLISH
X-PUBLISHED-TTL:PT1H
BEGIN:VEVENT
UID:258@durockrj.com.br
SUMMARY:Kruger - Tributo System of a Down e Linkin Park
DTSTAMP:20260421T044316Z
DTSTART:20260425T010000Z
URL:https://durockrj.com.br/event/kruger-tributo-system-of-a-down-e-linkin-
	park
GEO:-22.9010188;-43.5672444
LOCATION:Drunks Pub - Estr. Rio do A\, 695 - Campo Grande\, Rio de Janeiro 
	- RJ
STATUS:CONFIRMED
CATEGORIES:campo grande,tributo,zona oeste
END:VEVENT
BEGIN:VEVENT
UID:28@durockrj.com.br
SUMMARY:Tchopu - Tributo ao Pearl Jam
DTSTAMP:20260421T044316Z
DTSTART:20260501T010000Z
URL:https://durockrj.com.br/event/tchopu-tributo-ao-pearl-jam
GEO:-22.9050039;-43.2876872
LOCATION:Brooks Pub (Méier) - R. Barão de São Borja\, 11 - Méier\, Rio de J
	aneiro - RJ
STATUS:CONFIRMED
CATEGORIES:zona norte,meier,tributo
END:VEVENT
BEGIN:VEVENT
UID:163@durockrj.com.br
SUMMARY:Black Circle - Tributo Pearl Jam
DTSTAMP:20260421T044316Z
DTSTART:20260502T000000Z
URL:https://durockrj.com.br/event/black-circle-tributo-a-pearl-jam
GEO:-22.8809347;-43.4582019
LOCATION:Bar do Chico - R. Santa Cecília\, 226 - Bangu\, Rio de Janeiro
STATUS:CONFIRMED
CATEGORIES:bangu,tributo,zona oeste
END:VEVENT
BEGIN:VEVENT
UID:265@durockrj.com.br
SUMMARY:Banda Holster - Tributo ao Grunge
DTSTAMP:20260421T044316Z
DTSTART:20260502T010000Z
URL:https://durockrj.com.br/event/banda-holster-tributo-ao-grunge
GEO:-22.9010188;-43.5672444
LOCATION:Drunks Pub - Estr. Rio do A\, 695 - Campo Grande\, Rio de Janeiro 
	- RJ
STATUS:CONFIRMED
CATEGORIES:campo grande,tributo,zona oeste
END:VEVENT
END:VCALENDAR
